BEGIN:VCALENDAR
VERSION:2.0
PRODID:-//wp-events-plugin.com//7.2.3.1//EN
TZID:America/Detroit
X-WR-TIMEZONE:America/Detroit
BEGIN:VEVENT
UID:35205@arabamerica.com
DTSTART;TZID=America/New_York:20251021T180000
DTEND;TZID=America/New_York:20251021T200000
DTSTAMP:20251007T224321Z
URL:https://www.arabamerica.com/events/the-cuisine-of-morocco-3/
SUMMARY:The Cuisine of Morocco
DESCRIPTION:DELHI\, NY\n\n&nbsp\;\n\nGet ready to transport your taste buds
  to the vibrant streets of Morocco with a culinary journey like no other!\
 n\nAbout this event\n\nFood &amp\; Drink • Food\n\n\n\n\n\nThe Cuisine o
 f Morocco\n\nMoroccan cuisine is an amalgam of Mediterranean\, Arabic\, An
 dalusian and Berber influences imposed on a country rich in tradition and 
 culture. We'll craft two starters - Rghaif\, a folded flat bread stuffed w
 ith caramelized onion and raisins and Briouats\, spinach rolls with Caper 
 Sauce. We'll then make two tagines - Chicken with Preserved Lemon\, Green 
 Olives &amp\; Thyme and a tagine of Sweet Potato\, Shallots\, Carrots and 
 Prunes. No Moroccan meal would be complete without couscous. We'll make th
 e traditional steamed version in a Couscousiér along with Braised Beef an
 d Apricots. And for dessert – spiced oranges\, whipped cream and mint. $
 79.\n\nGet Tickets Here\n\n\n\n\n
ATTACH;FMTTYPE=image/jpeg:https://www.arabamerica.com/wp-content/uploads/2
 025/10/Screenshot-2025-10-07-at-6.38.03-PM.png
LOCATION:70 Main St\, 70 Main St\, Delhi\, NY\, 13753\, United States
GEO:42.276021;-74.919119
X-APPLE-STRUCTURED-LOCATION;VALUE=URI;X-ADDRESS=70 Main St\, Delhi\, NY\, 1
 3753\, United States;X-APPLE-RADIUS=100;X-TITLE=70 Main St:geo:42.276021,-
 74.919119
END:VEVENT
BEGIN:VTIMEZONE
TZID:America/New_York
X-LIC-LOCATION:America/New_York
BEGIN:DAYLIGHT
DTSTART:20250309T030000
TZOFFSETFROM:-0500
TZOFFSETTO:-0400
TZNAME:EDT
END:DAYLIGHT
END:VTIMEZONE
END:VCALENDAR