BEGIN:VCALENDAR
VERSION:2.0
PRODID:-//wp-events-plugin.com//7.2.3.1//EN
TZID:America/Detroit
X-WR-TIMEZONE:America/Detroit
BEGIN:VEVENT
UID:35412@arabamerica.com
DTSTART;TZID=America/Detroit:20251204T183000
DTEND;TZID=America/Detroit:20251204T200000
DTSTAMP:20251117T214541Z
URL:https://www.arabamerica.com/events/the-day-after-negotiating-the-futur
 e-of-gaza-and-the-middle-east/
SUMMARY:The Day After: Negotiating the Future of Gaza and the Middle East
DESCRIPTION:\n\nOverview\n\n\n\n\n\nGaza’s future: Israeli Nadav Eyal &am
 p\; Palestinian-American Ahmed Fouad Alkhatib\; moderated by National secu
 rity expert Javed Ali.\n\n\n\n\nAn urgent and thought-provoking panel disc
 ussion on the future of Gaza and the broader Middle East following the Isr
 ael-Hamas war. The conversation will feature leading Israeli journalist an
 d political commentator Nadav Eyal and Palestinian-American writer\, analy
 st\, and peace advocate Ahmed Fouad Alkhatib\, offering distinct perspecti
 ves on the region’s evolving challenges and possibilities. The discussio
 n will be moderated by University of Michigan Ford School of Public Policy
  Professor Javed Ali\, a national security expert and former U.S. intellig
 ence official dedicated to teaching counterterrorism and security policy.\
 n\n\n\n\n\n
LOCATION:University of Michigan Ross School of Business in the Robertson Au
 ditorium\, 701 Tappan Avenue\, Ann Arbor\, MI\, 48109\, United States
GEO:42.272778;-83.737529
X-APPLE-STRUCTURED-LOCATION;VALUE=URI;X-ADDRESS=701 Tappan Avenue\, Ann Arb
 or\, MI\, 48109\, United States;X-APPLE-RADIUS=100;X-TITLE=University of M
 ichigan Ross School of Business in the Robertson Auditorium:geo:42.272778,
 -83.737529
END:VEVENT
BEGIN:VTIMEZONE
TZID:America/Detroit
X-LIC-LOCATION:America/Detroit
BEGIN:STANDARD
DTSTART:20251102T010000
TZOFFSETFROM:-0400
TZOFFSETTO:-0500
TZNAME:EST
END:STANDARD
END:VTIMEZONE
END:VCALENDAR