BEGIN:VCALENDAR
VERSION:2.0
PRODID:-//wp-events-plugin.com//7.2.3.1//EN
TZID:America/Detroit
X-WR-TIMEZONE:America/Detroit
BEGIN:VEVENT
UID:36218@arabamerica.com
DTSTART;TZID=America/Los_Angeles:20260530T193000
DTEND;TZID=America/Los_Angeles:20260530T203000
DTSTAMP:20260421T144846Z
URL:https://www.arabamerica.com/events/the-dissolved-self-sound-the-sufi-i
 maginal-with-sahar-farooqui-khundmiri/
SUMMARY:The Dissolved Self: Sound & the Sufi Imaginal With Sahar Farooqui K
 hundmiri
DESCRIPTION:\n\n\nLOS ANGELES\, CA\n\nJoin us in breath practice drawn from
  the Sufi devotional tradition and a sound bath woven from sitar\, drums\,
  voice and more.\n\n\n\n\n\n\nThe Dissolved Self: Sound &amp\; the Sufi Im
 aginal\n\nIn the PRS Lecture Room\n\nThere is a realm the mystics have alw
 ays known where the self becomes permeable allowing something deeper to mo
 ve through. The Sufis and Henry Corbin called it the IMAGINAL: a real and 
 living world accessible through the surrendered body.\n\nAt the heart of t
 he Sufi tradition are two divine qualities: Rahman and Rahim\, boundless m
 ercy and compassion. This evening asks a quiet\, radical question: what wo
 uld it mean to offer that same mercy to our own nervous systems?\n\nLed by
  South Asian artist Sahar F. Khundmiri\, we begin with an ancient breath p
 ractice drawn from the Sufi devotional tradition\; a conscious\, rhythmic 
 breathing that gently shifts the body out of vigilance and into what scien
 ce now calls parasympathetic resonance\, or the physiological state in whi
 ch we stop defending and begin to receive.\n\nFrom there\, we are carried 
 by an immersive sound bath woven from sitar\, harmonium\, singing bowls\, 
 gongs\, drum\, voice\, and more...instruments that span centuries and trad
 itions\, each chosen for its capacity to dissolve. The sitar traces the sh
 ape of longing\, its resonant strings drawing the nervous system into stil
 lness. The harmonium breathes beneath it all. The bowls open the overtone 
 world. The gong washes form away.\n\nThis is the Sufi teaching of fana\, o
 r the dissolution of the ego. You are invited to lie down\, close your eye
 s\, and disappear a little.\n\nTicket price: $30 (in-person event only)\n\
 nPlease Note: The PRS Lecture Room is only accessible via stairs. If you 
 require any accessibility accommodation\, please reach out to events@prs.
 org or call 323-663-2167 before showtime and we will be happy to assist y
 ou.\n\nhttps://www.eventbrite.com/e/the-dissolved-self-sound-the-sufi-imag
 inal-with-sahar-farooqui-khundmiri-tickets-1986143837684?aff=ebdssbdestsea
 rch\n\n\n
ATTACH;FMTTYPE=image/jpeg:https://www.arabamerica.com/wp-content/uploads/2
 026/04/Screenshot-2026-04-21-at-10.43.41-AM.png
LOCATION:Philosophical Research Society\, 3910 Los Feliz Boulevard\, Los An
 gles\, California \, 90027\, United States
GEO:34.113121;-118.277651
X-APPLE-STRUCTURED-LOCATION;VALUE=URI;X-ADDRESS=3910 Los Feliz Boulevard\, 
 Los Angles\, California \, 90027\, United States;X-APPLE-RADIUS=100;X-TITL
 E=Philosophical Research Society:geo:34.113121,-118.277651
END:VEVENT
BEGIN:VTIMEZONE
TZID:America/Los_Angeles
X-LIC-LOCATION:America/Los_Angeles
BEGIN:DAYLIGHT
DTSTART:20260308T030000
TZOFFSETFROM:-0800
TZOFFSETTO:-0700
TZNAME:PDT
END:DAYLIGHT
END:VTIMEZONE
END:VCALENDAR