BEGIN:VCALENDAR
VERSION:2.0
PRODID:-//wp-events-plugin.com//7.2.3.1//EN
TZID:America/Detroit
X-WR-TIMEZONE:America/Detroit
BEGIN:VEVENT
UID:34915@arabamerica.com
DTSTART;TZID=America/Detroit:20251115T170000
DTEND;TZID=America/Detroit:20251115T230000
DTSTAMP:20250805T200834Z
URL:https://www.arabamerica.com/events/the-egyptian-weaving-of-the-maat-ch
 anneling-circle-of-balance-harmony/
SUMMARY:The Egyptian Weaving of the Ma'At - Channeling Circle of Balance & 
 Harmony
DESCRIPTION:LAKEWOOD\, OH\n\n18+\n\nSaturday\, November 15\, 2025\n\n5:00 P
 M – 11:00 PM\n\nQuantum Healing &amp\; Wellness Sacred Space\n\nStep int
 o sacred space and join us for an immersive evening of ritual\, reflection
 \, and spirit connection\, guided by the divine presence of Ma’at—the 
 ancient Egyptian goddess of truth\, balance\, and cosmic order.\n\nThis un
 ique channeling circle centers around a powerful weaving ritual that invit
 es you to explore your relationship with duality: shadow and light\, still
 ness and action\, the past and the future.\n\nDuring our signature ritual\
 , The Weaving of Ma’at\, you will:\n\n&nbsp\;\n\n 	Reflect on areas of l
 ife where balance is needed\n 	Infuse your weaving with intention\, harmon
 y\, and healing\n 	Speak sacred affirmations and ritual blessing\n\nThe ev
 ening also includes:\n\n&nbsp\;\n\n 	Sage cleansing &amp\; breathwork\n 	S
 ound healing &amp\; grounding meditation\n 	Light language transmission\n 
 	Group spirit channeling\n 	A powerful chant of protection and prayer\n 	G
 uided integration with time for sharing and journaling\n\nPlus: Each parti
 cipant receives a 45 min personal follow-up session with one of the facili
 tators\, to deepen integration and receive additional support or channel g
 uidance in the days after the gathering.\n\nGet Tickets Here
ATTACH;FMTTYPE=image/jpeg:https://www.arabamerica.com/wp-content/uploads/2
 025/08/Screenshot-2025-08-05-at-4.04.45-PM.png
CATEGORIES:Arab Ameircan Event,Arab American,Community,culture
LOCATION:2135 Riverside Dr\, 2135 Riverside Dr\, Lakewood\, OH\, 44107\, Un
 ited States
GEO:41.473913;-81.821174
X-APPLE-STRUCTURED-LOCATION;VALUE=URI;X-ADDRESS=2135 Riverside Dr\, Lakewoo
 d\, OH\, 44107\, United States;X-APPLE-RADIUS=100;X-TITLE=2135 Riverside D
 r:geo:41.473913,-81.821174
END:VEVENT
BEGIN:VTIMEZONE
TZID:America/Detroit
X-LIC-LOCATION:America/Detroit
BEGIN:STANDARD
DTSTART:20251102T010000
TZOFFSETFROM:-0400
TZOFFSETTO:-0500
TZNAME:EST
END:STANDARD
END:VTIMEZONE
END:VCALENDAR