BEGIN:VCALENDAR
VERSION:2.0
PRODID:-//wp-events-plugin.com//7.2.3.1//EN
TZID:America/Detroit
X-WR-TIMEZONE:America/Detroit
BEGIN:VEVENT
UID:31691@arabamerica.com
DTSTART;TZID=America/Detroit:20231122T190000
DTEND;TZID=America/Detroit:20231122T190000
DTSTAMP:20230914T033117Z
URL:https://www.arabamerica.com/events/the-elyanna-tour-detroit/
SUMMARY:The Elyanna Tour : Detroit
DESCRIPTION:\nAEG Presents \nELYANNA - THE ELYANNA TOUR 
ATTACH;FMTTYPE=image/jpeg:https://www.arabamerica.com/wp-content/uploads/2
 023/09/Screenshot-2023-09-13-at-4.14.06-PM-1.png
CATEGORIES:Arab America,Arab American,Arab concert,Arab Music
LOCATION:Majestic Theatre\, 4120 Woodward Ave.\, Detroit\, MI\, 48201\, Uni
 ted States
GEO:42.351149;-83.05988
X-APPLE-STRUCTURED-LOCATION;VALUE=URI;X-ADDRESS=4120 Woodward Ave.\, Detroi
 t\, MI\, 48201\, United States;X-APPLE-RADIUS=100;X-TITLE=Majestic Theatre
 :geo:42.351149,-83.05988
END:VEVENT
BEGIN:VTIMEZONE
TZID:America/Detroit
X-LIC-LOCATION:America/Detroit
BEGIN:STANDARD
DTSTART:20231105T010000
TZOFFSETFROM:-0400
TZOFFSETTO:-0500
TZNAME:EST
END:STANDARD
END:VTIMEZONE
END:VCALENDAR