BEGIN:VCALENDAR
VERSION:2.0
PRODID:-//wp-events-plugin.com//7.2.3.1//EN
TZID:America/Detroit
X-WR-TIMEZONE:America/Detroit
BEGIN:VEVENT
UID:31692@arabamerica.com
DTSTART;TZID=America/Detroit:20231126T193000
DTEND;TZID=America/Detroit:20231126T193000
DTSTAMP:20230914T034015Z
URL:https://www.arabamerica.com/events/the-elyanna-tour-san-francisco/
SUMMARY:The Elyanna Tour : San Francisco
DESCRIPTION:\n\n\n\n\nElyanna\n\n\n\n\n\nNo matter what lines\, borders\, o
 r boundaries seemingly separate us\, songs bring us back together. Elyanna
  unites listeners worldwide around a sizzling signature style steeped in A
 rabic music\, pop\, and R&amp\;B. Singing in Arabic and English\, the Pale
 stinian-Chilean singer\, songwriter\, and performer instantly enchants wit
 h soul and spirit. Growing up in Nazareth\, she discovered her calling ear
 ly on. At just six-years-old\, she often donned her mom's heels and black 
 coat and performed in front of the mirror. One day\, her mother and siblin
 gs caught her to which she responded\, "You don't even know what I'm capa
 ble of doing yet." Soon after\, the budding talent practiced daily with h
 er older brother Feras who played piano and penned songs of his own. She r
 egularly shut down talent shows and even practiced for photo shoots. At ju
 st 15-years-old\, she landed on the radar of GRAMMY® Award-winning singer
 \, songwriter\, and MAGIC! frontman Nasri Atweh [Justin Bieber\, Pitbull\,
  Chris Brown]. Nasri introduced her to Lebanese-Canadian star Massari and 
 powerhouse manager\, SAL&amp\;CO Founder\, and Universal Arabic Music C.E.
 O. Wassim "Sal" Slaiby. Following a series of buzzing releases\, she made 
 waves internationally with the self-titled Elyanna EP in 2020\, boasting
  fan favorites such as "Ana Lahale" [with Massari]\, racking up 14.4 milli
 on Spotify streams. After amassing 100 million global streams and earning 
 acclaim from Vogue Middle East\, Cosmopolitan Middle East\, GQ Middle E
 ast\, and more\, she perfects this vision on a series of singles and her f
 orthcoming 2022 debut for Universal Arabic Music led by "Ghareeb Alay.\n
ATTACH;FMTTYPE=image/jpeg:https://www.arabamerica.com/wp-content/uploads/2
 023/09/Screenshot-2023-09-13-at-4.14.06-PM-1.png
CATEGORIES:Arab concert,Arab Music,Arab
 Singer,Arab-American,Arabic,concert
LOCATION:The Independant\, 628 Divisadero St\, San Francisco\, CA\, 94117\,
  United States
GEO:37.775536;-122.437656
X-APPLE-STRUCTURED-LOCATION;VALUE=URI;X-ADDRESS=628 Divisadero St\, San Fra
 ncisco\, CA\, 94117\, United States;X-APPLE-RADIUS=100;X-TITLE=The Indepen
 dant:geo:37.775536,-122.437656
END:VEVENT
BEGIN:VTIMEZONE
TZID:America/Detroit
X-LIC-LOCATION:America/Detroit
BEGIN:STANDARD
DTSTART:20231105T010000
TZOFFSETFROM:-0400
TZOFFSETTO:-0500
TZNAME:EST
END:STANDARD
END:VTIMEZONE
END:VCALENDAR