BEGIN:VCALENDAR
VERSION:2.0
PRODID:-//wp-events-plugin.com//7.2.3.1//EN
TZID:America/Detroit
X-WR-TIMEZONE:America/Detroit
BEGIN:VEVENT
UID:31693@arabamerica.com
DTSTART;TZID=America/Detroit:20231128T190000
DTEND;TZID=America/Detroit:20231128T190000
DTSTAMP:20230914T035022Z
URL:https://www.arabamerica.com/events/the-elyanna-tour-santa-ana/
SUMMARY:The Elyanna Tour : Santa Ana
DESCRIPTION:\n\nImportant Event Info\n\n\nAll Ages Welcome\n\nDoors: 7:00 P
 M\n\nShow: 8:00 PM\n\n*All times and supporting acts are subject to change
 \n
ATTACH;FMTTYPE=image/jpeg:https://www.arabamerica.com/wp-content/uploads/2
 023/09/Screenshot-2023-09-13-at-4.14.06-PM-1.png
CATEGORIES:Arab,Arab America,Arab American,Arab concert,Arab Singer,Arab
 Women,arabic music
LOCATION:The Observatory\, 3503 S. Harbor Blvd.\, Santa Ana\, CA\, 92704\, 
 United States
GEO:33.699857;-117.917623
X-APPLE-STRUCTURED-LOCATION;VALUE=URI;X-ADDRESS=3503 S. Harbor Blvd.\, Sant
 a Ana\, CA\, 92704\, United States;X-APPLE-RADIUS=100;X-TITLE=The Observat
 ory:geo:33.699857,-117.917623
END:VEVENT
BEGIN:VTIMEZONE
TZID:America/Detroit
X-LIC-LOCATION:America/Detroit
BEGIN:STANDARD
DTSTART:20231105T010000
TZOFFSETFROM:-0400
TZOFFSETTO:-0500
TZNAME:EST
END:STANDARD
END:VTIMEZONE
END:VCALENDAR