BEGIN:VCALENDAR
VERSION:2.0
PRODID:-//wp-events-plugin.com//7.2.3.1//EN
TZID:America/Detroit
X-WR-TIMEZONE:America/Detroit
BEGIN:VEVENT
UID:34753@arabamerica.com
DTSTART;TZID=America/Detroit:20250709T180000
DTEND;TZID=America/Detroit:20250709T210000
DTSTAMP:20250709T041052Z
URL:https://www.arabamerica.com/events/the-encampments-screening/
SUMMARY:The Encampments Screening
DESCRIPTION:BOLINGBROOK\, IL\n\n&#x1f4e3\; YOU’RE INVITED: Documentary S
 creening &amp\; Group Discussion\n\n&#x1f3ac\; THE ENCAMPMENTS&#x1f4c5\;
  Wednesday\, July 9\, 2025&#x1f560\; 5:45 PM&#x1f4cd\; The Levy Center2
 51 Canterbury Lane\, Bolingbrook\, IL 60440&#x1f39f\;&#xfe0f\; Admission:
  $5\n\nJoin us for a powerful evening as we screen The Encampments\, a do
 cumentary that takes you inside the student movement for Palestine. Follow
 ed by a meaningful group discussion on resistance\, solidarity\, and actio
 n.\n\n&#x1f37d\;&#xfe0f\; Dinner will be available&#x1f476\; Onsite baby
 sitting provided\n\n&#x1f517\; Register now: https://bit.ly/encampmentlo
 veOr scan the QR code on the flyer!\n\n&#x1f7e0\; Hosted by Advocates 4 J
 ustice — United Voices. Amplifying Courage.\n\nLet’s gather\, reflect
 \, and build together.
ATTACH;FMTTYPE=image/jpeg:https://www.arabamerica.com/wp-content/uploads/2
 025/07/Screen-Shot-2025-07-09-at-12.07.50-AM.png
LOCATION:Levy Center\, 251 Canterbury Lane\, Bolingbrook\, Illinois \, 6044
 0\, United States
GEO:41.693611;-88.082784
X-APPLE-STRUCTURED-LOCATION;VALUE=URI;X-ADDRESS=251 Canterbury Lane\, Bolin
 gbrook\, Illinois \, 60440\, United States;X-APPLE-RADIUS=100;X-TITLE=Levy
  Center:geo:41.693611,-88.082784
END:VEVENT
BEGIN:VTIMEZONE
TZID:America/Detroit
X-LIC-LOCATION:America/Detroit
BEGIN:DAYLIGHT
DTSTART:20250309T030000
TZOFFSETFROM:-0500
TZOFFSETTO:-0400
TZNAME:EDT
END:DAYLIGHT
END:VTIMEZONE
END:VCALENDAR