BEGIN:VCALENDAR
VERSION:2.0
PRODID:-//wp-events-plugin.com//7.2.3.1//EN
TZID:America/Detroit
X-WR-TIMEZONE:America/Detroit
BEGIN:VEVENT
UID:30435@arabamerica.com
DTSTART;TZID=America/Detroit:20230507T110000
DTEND;TZID=America/Detroit:20230507T133000
DTSTAMP:20230208T021428Z
URL:https://www.arabamerica.com/events/the-eros-project-becoming-fluid-wor
 kshops-w-meryl-murman/
SUMMARY:The Eros Project: becoming-Fluid Workshops w/ Meryl Murman
DESCRIPTION:DETROIT\, MI\n\nThe Eros Project: becoming-Fluid is a series o
 f free workshops for women and female-identifying individuals to co-explor
 e eros\, sexuality\, agency\, holistic care and consent through somatic mo
 vement\, ritual and creative collaborations with water. Participants will 
 be invited to recreate the Hammam with artist-in-residence Meryl Zaytoun
  Murman as a site to examine becoming fluid and how relating through water
  affects our understanding of identities as shifting\, various and in-flux
 .\n\nWorkshops are facilitated through a somatic approach and include gent
 le movement and voice healing practices\, participatory circular conversat
 ions\, story and humor as medicine\, and creative explorations with water.
  Participants will take away somatic and visualization tools to apply in t
 heir self-care practices at home\, and have the opportunity to connect mor
 e deeply through holistic processes and creative investigations with other
 s in their community.\n\nThroughout the workshop\, participants will share
  and explore the diversity of female experiences within their community wh
 ile interacting with erotic feminine myth\, art\, poetry and song referenc
 es from the SWANA/Mediterranean spanning 4000 BC to present and the cultur
 al contributions of contemporary Arab and Arab American feminist artists.\
 n\nRSVP here!
ATTACH;FMTTYPE=image/jpeg:https://www.arabamerica.com/wp-content/uploads/2
 023/02/Screenshot-2023-02-07-at-8.31.51-PM.png
CATEGORIES:Community,culture,Discussion
LOCATION:Arab American National Museum\, 13624 Michigan Avenue\, Dearborn \
 , MI\, 48126\, United States
GEO:42.3222224;-83.1766346
X-APPLE-STRUCTURED-LOCATION;VALUE=URI;X-ADDRESS=13624 Michigan Avenue\, Dea
 rborn \, MI\, 48126\, United States;X-APPLE-RADIUS=100;X-TITLE=Arab Americ
 an National Museum:geo:42.3222224,-83.1766346
END:VEVENT
BEGIN:VTIMEZONE
TZID:America/Detroit
X-LIC-LOCATION:America/Detroit
BEGIN:DAYLIGHT
DTSTART:20230312T030000
TZOFFSETFROM:-0500
TZOFFSETTO:-0400
TZNAME:EDT
END:DAYLIGHT
END:VTIMEZONE
END:VCALENDAR