BEGIN:VCALENDAR
VERSION:2.0
PRODID:-//wp-events-plugin.com//7.2.3.1//EN
TZID:America/Detroit
X-WR-TIMEZONE:America/Detroit
BEGIN:VEVENT
UID:35032@arabamerica.com
DTSTART;TZID=America/Detroit:20250830T193000
DTEND;TZID=America/Detroit:20250830T223000
DTSTAMP:20250824T231550Z
URL:https://www.arabamerica.com/events/the-fall-of-the-pharoah/
SUMMARY:The Fall of the Pharoah
DESCRIPTION:ESTERO\, FL\n\n&nbsp\;\n\n&#x1f53a\;Murder Mystery: The Fall of
  the Pharaoh&#x1f53a\;A royal evening of secrets\, betrayal\, and ancient 
 curses awaits…Join us Friday\, August 30 for an immersive Murder Myst
 ery Party like no other.\n\n&#x1f570\;&#xfe0f\; Arrive at 7:30 PM to mi
 ngle and sip&#x1f50d\; The mystery begins at 8 PM sharp\n\nStep into the 
 opulent court of Ancient Egypt\, where a powerful Pharaoh has fallen under
  suspicious circumstances. Unravel clues\, interrogate suspects\, and unco
 ver the truth before the sands of time run out...\n\nCostumes encouraged.
ATTACH;FMTTYPE=image/jpeg:https://www.arabamerica.com/wp-content/uploads/2
 025/08/fall_of_pharoah.png
LOCATION:Kava Culture Kava Bar\, 10801 Corkscrew Road #Suite 327\, Estero\,
  FL\, 33928\, United States
GEO:26.437121;-81.7755
X-APPLE-STRUCTURED-LOCATION;VALUE=URI;X-ADDRESS=10801 Corkscrew Road #Suite
  327\, Estero\, FL\, 33928\, United States;X-APPLE-RADIUS=100;X-TITLE=Kava
  Culture Kava Bar:geo:26.437121,-81.7755
END:VEVENT
BEGIN:VTIMEZONE
TZID:America/Detroit
X-LIC-LOCATION:America/Detroit
BEGIN:DAYLIGHT
DTSTART:20250309T030000
TZOFFSETFROM:-0500
TZOFFSETTO:-0400
TZNAME:EDT
END:DAYLIGHT
END:VTIMEZONE
END:VCALENDAR