BEGIN:VCALENDAR
VERSION:2.0
PRODID:-//wp-events-plugin.com//7.2.3.1//EN
TZID:America/Detroit
X-WR-TIMEZONE:America/Detroit
BEGIN:VEVENT
UID:33176@arabamerica.com
DTSTART;TZID=America/Detroit:20240714T140000
DTEND;TZID=America/Detroit:20240714T180000
DTSTAMP:20240708T162128Z
URL:https://www.arabamerica.com/events/the-fight-for-freedom-fashion-show/
SUMMARY:The Fight For Freedom Fashion Show
DESCRIPTION:NEW PORT RICHEY\, FL\n\n\n\n\n\n\nWelcome to The Fight For Free
 dom Fashion Show!\n\nDate: Sun\, July 14\, 2024\n\nTime: 2:00 PM\n\nLocati
 on: Historic Hacienda Hotel\n\nCome join us for a spectacular event focusi
 ng on freedom through fashion! Witness local runway designs while supporti
 ng a great cause. This event is to help those in need of aid during the on
 going genocide in Palestine. 100% of the proceeds will be donated to forei
 gn aid relief. Thank you for your kind donations to our brothers and siste
 rs overseas\n\n\n\n\n\n
ATTACH;FMTTYPE=image/jpeg:https://www.arabamerica.com/wp-content/uploads/2
 024/07/temp-17.jpg
LOCATION:Historic Hacienda Hotel\, 5621 Main Street \, New Port Richey\, Fl
 orida\, 34652\, United States
GEO:28.250659;-82.721224
X-APPLE-STRUCTURED-LOCATION;VALUE=URI;X-ADDRESS=5621 Main Street \, New Por
 t Richey\, Florida\, 34652\, United States;X-APPLE-RADIUS=100;X-TITLE=Hist
 oric Hacienda Hotel:geo:28.250659,-82.721224
END:VEVENT
BEGIN:VTIMEZONE
TZID:America/Detroit
X-LIC-LOCATION:America/Detroit
BEGIN:DAYLIGHT
DTSTART:20240310T030000
TZOFFSETFROM:-0500
TZOFFSETTO:-0400
TZNAME:EDT
END:DAYLIGHT
END:VTIMEZONE
END:VCALENDAR