BEGIN:VCALENDAR
VERSION:2.0
PRODID:-//wp-events-plugin.com//7.2.3.1//EN
TZID:America/Detroit
X-WR-TIMEZONE:America/Detroit
BEGIN:VEVENT
UID:31173@arabamerica.com
DTSTART;TZID=America/Detroit:20230618T150000
DTEND;TZID=America/Detroit:20230618T150000
DTSTAMP:20230530T233815Z
URL:https://www.arabamerica.com/events/the-first-54-years-an-abbreviated-m
 anual-for-military-occupation/
SUMMARY:The First 54 Years: An Abbreviated Manual For Military Occupation
DESCRIPTION:\n\n\n\n"The First 54 Years: An Abbreviated Manual For Military
  Occupation" What are the circumstances\, logic\, and day-to-day processes
  that allow the normalization of the Israeli military occupation? Almost 3
  million Palestinians live under military occupation on land captured by I
 srael in the ’67 war\, plus another 2 million in Gaza. What does “mili
 tary occupation” mean for people living under it? Witness first-hand tes
 timonies from former IDF soldiers and historical film clips that show the 
 devastating results not only on the occupied Palestinians\, but also on yo
 ung Israeli men conscripted to enforce it. In The First 54 Years: An Abbre
 viated Manual for Military Occupation\, Director Avi Mograbi hosts the vie
 wers in his living room and provides insights to how a colonialist occupat
 ion works–the logic behind its brutal practices and the different modes 
 of thought needed to sustain it despite international condemnation. Regist
 er below and join us on June 18 at 3:00 PM Eastern for a discussion of the
  Occupation machine and the film with: - Avi Mograbi: Israeli filmmaker an
 d Board member\, Breaking the Silence - Ori Givati: Former tank commander\
 , IDF Armoured Corp\, and Advocacy Director\, Breaking the Silence - Jamal
  Najjab: Palestinian-American photojournalist and human rights advocate Ou
 r moderator will be James Zogby: Co-founder and president\, Arab American 
 Institute. Watch the trailer: https://tinyurl.com/VFHL-Trailer54Years\n\n\
 n\n
ATTACH;FMTTYPE=image/jpeg:https://www.arabamerica.com/wp-content/uploads/2
 023/05/7f0fec2a-f66e-73c0-aa42-68b62f351998-scaled.jpg
CATEGORIES:Advocacy,Community,culture,Discussion,Lecture
END:VEVENT
BEGIN:VTIMEZONE
TZID:America/Detroit
X-LIC-LOCATION:America/Detroit
BEGIN:DAYLIGHT
DTSTART:20230312T030000
TZOFFSETFROM:-0500
TZOFFSETTO:-0400
TZNAME:EDT
END:DAYLIGHT
END:VTIMEZONE
END:VCALENDAR