BEGIN:VCALENDAR
VERSION:2.0
PRODID:-//wp-events-plugin.com//7.2.3.1//EN
TZID:America/Detroit
X-WR-TIMEZONE:America/Detroit
BEGIN:VEVENT
UID:32308@arabamerica.com
DTSTART;TZID=America/Detroit:20240304T180000
DTEND;TZID=America/Detroit:20240304T190000
DTSTAMP:20240222T202538Z
URL:https://www.arabamerica.com/events/the-gaza-mono-logues-2/
SUMMARY:The Gaza Mono-Logues
DESCRIPTION:DC.\n\nThe Middle East Institute Arts and Culture Center invite
 s you to an evening of theater and dialogue honoring Ashtar Theatre’s se
 minal work\, "The Gaza Mono-Logues.” The monologues are personal storie
 s of 33 young Gazans who worked with the Ramallah-based Ashtar Theatre in 
 2010 to transmit their stories of life under siege.\n\nThe Middle East Ins
 titute is proud to present selected readings from "The Gaza Mono-Logues\,
 ” following Ashtar Theatre’s global call to individuals and theaters w
 orldwide to give performances of the moving testimonies. Directed by ANERA
  Board Member Victoria Sams\, and featuring three Washington\, DC-based pe
 rformers\, the readings will be followed by a discussion with Victoria Sam
 s and MEI’s director of the Program on Palestine and Palestinian-Israeli
  Affairs Khaled Elgindy about the current humanitarian situation in Gaza\,
  the work of ANERA\, and the role of Ashtar Theatre.
ATTACH;FMTTYPE=image/jpeg:https://www.arabamerica.com/wp-content/uploads/2
 024/02/image_50434817_1-scaled.jpeg
CATEGORIES:Community,culture,Discussion
LOCATION:Middle East Institute\, 1763 N St NW\, Washington\, DC\, United St
 ates
GEO:38.907503;-77.040849
X-APPLE-STRUCTURED-LOCATION;VALUE=URI;X-ADDRESS=1763 N St NW\, Washington\,
  DC\, United States;X-APPLE-RADIUS=100;X-TITLE=Middle East Institute:geo:3
 8.907503,-77.040849
END:VEVENT
BEGIN:VTIMEZONE
TZID:America/Detroit
X-LIC-LOCATION:America/Detroit
BEGIN:STANDARD
DTSTART:20231105T010000
TZOFFSETFROM:-0400
TZOFFSETTO:-0500
TZNAME:EST
END:STANDARD
END:VTIMEZONE
END:VCALENDAR