BEGIN:VCALENDAR
VERSION:2.0
PRODID:-//wp-events-plugin.com//7.2.3.1//EN
TZID:America/Detroit
X-WR-TIMEZONE:America/Detroit
BEGIN:VEVENT
UID:35462@arabamerica.com
DTSTART;TZID=America/Detroit:20251123T190000
DTEND;TZID=America/Detroit:20251124T020000
DTSTAMP:20251124T232446Z
URL:https://www.arabamerica.com/events/the-gbewaa-kingdom-of-atlanta-and-n
 orth-america-damba-celebration/
SUMMARY:THE GBEWAA KINGDOM OF ATLANTA AND NORTH AMERICA Damba celebration
DESCRIPTION:About the event\nTHE GBEWAA KINGDOM OF ATLANTA AND NORTH AMERIC
 A Damba celebration\nAtlanta\, Georgia&#x1f1fa\;&#x1f1f8\;&#x1f1fa\;&#x1f1
 f8\;\, is set to host another historic Damba celebration\, and Atlanta Dag
 ombas Chief \, Nachin Naa\, and Magazia invite everyone to join them in ce
 lebrating Dagbon culture on a global scale &#x1f1fa\;&#x1f1f2\;&#x1f1fa\;&
 #x1f1f2\;&#x1f30e\;\n
LOCATION:Al-Noor Banquet & Caterer\, 6010 Singleton Road\, Norcross\, GA\, 
 United States
GEO:33.903846;-84.199881
X-APPLE-STRUCTURED-LOCATION;VALUE=URI;X-ADDRESS=6010 Singleton Road\, Norcr
 oss\, GA\, United States;X-APPLE-RADIUS=100;X-TITLE=Al-Noor Banquet & Cate
 rer:geo:33.903846,-84.199881
END:VEVENT
BEGIN:VTIMEZONE
TZID:America/Detroit
X-LIC-LOCATION:America/Detroit
BEGIN:STANDARD
DTSTART:20251102T010000
TZOFFSETFROM:-0400
TZOFFSETTO:-0500
TZNAME:EST
END:STANDARD
END:VTIMEZONE
END:VCALENDAR