BEGIN:VCALENDAR
VERSION:2.0
PRODID:-//wp-events-plugin.com//7.2.3.1//EN
TZID:America/Detroit
X-WR-TIMEZONE:America/Detroit
BEGIN:VEVENT
UID:34067@arabamerica.com
DTSTART;TZID=America/Detroit:20250223T163000
DTEND;TZID=America/Detroit:20250223T203000
DTSTAMP:20250217T211151Z
URL:https://www.arabamerica.com/events/the-habiba-studio-presents-it-takes
 -a-village-a-celebration-of-egypt/
SUMMARY:The Habiba Studio Presents "It takes a village: A celebration of Eg
 ypt"
DESCRIPTION:\n\nThe Habiba Studio Presents The 2025 Hafla. “It takes a vi
 llage: A celebration of Egypt”\n\n\n\n\n\n\n\n\n\n\n\n\n
ATTACH;FMTTYPE=image/jpeg:https://www.arabamerica.com/wp-content/uploads/2
 025/02/Screenshot-2025-02-17-at-3.16.59 PM.png
CATEGORIES:#arabic,Arab American,Community,culture,Music/Folk/World
LOCATION:Performance Garage\, 1515 Brandywine St\, Philadelphia\, Pennsylva
 nia\, United States
GEO:39.9635628;-75.16359749999998
X-APPLE-STRUCTURED-LOCATION;VALUE=URI;X-ADDRESS=1515 Brandywine St\, Philad
 elphia\, Pennsylvania\, United States;X-APPLE-RADIUS=100;X-TITLE=Performan
 ce Garage:geo:39.9635628,-75.16359749999998
END:VEVENT
BEGIN:VTIMEZONE
TZID:America/Detroit
X-LIC-LOCATION:America/Detroit
BEGIN:STANDARD
DTSTART:20241103T010000
TZOFFSETFROM:-0400
TZOFFSETTO:-0500
TZNAME:EST
END:STANDARD
END:VTIMEZONE
END:VCALENDAR