BEGIN:VCALENDAR
VERSION:2.0
PRODID:-//wp-events-plugin.com//7.2.3.1//EN
TZID:America/Detroit
X-WR-TIMEZONE:America/Detroit
BEGIN:VEVENT
UID:33529@arabamerica.com
DTSTART;TZID=America/Detroit:20240928T180000
DTEND;TZID=America/Detroit:20240928T200000
DTSTAMP:20240910T235259Z
URL:https://www.arabamerica.com/events/the-hummus-project-exhibition/
SUMMARY:The Hummus Project - Exhibition
DESCRIPTION:WESTMINSTER\, CALIFORNIA\n\nJoin us for The Hummus Project\, an
  exhibition that reclaims culture and resists appropriation through the po
 wer of food. This event celebrates the cultural significance of hummus as 
 a symbol of Arab resilience and tradition\, exploring the intersection of 
 art\, heritage\, and identity. Experience thought-provoking artworks and h
 andcrafted Syrian refreshments as you delve into the stories of struggle a
 nd triumph tied to reclaiming one's roots.\nOPEN TO ALL AGES!
ATTACH;FMTTYPE=image/jpeg:https://www.arabamerica.com/wp-content/uploads/2
 024/09/IMG_0318.jpeg
LOCATION:Catalyst\, 6630 Westminster Blvd\, Westminster\, California\, 9268
 3\, United States
GEO:33.758733;-118.013136
X-APPLE-STRUCTURED-LOCATION;VALUE=URI;X-ADDRESS=6630 Westminster Blvd\, Wes
 tminster\, California\, 92683\, United States;X-APPLE-RADIUS=100;X-TITLE=C
 atalyst:geo:33.758733,-118.013136
END:VEVENT
BEGIN:VTIMEZONE
TZID:America/Detroit
X-LIC-LOCATION:America/Detroit
BEGIN:DAYLIGHT
DTSTART:20240310T030000
TZOFFSETFROM:-0500
TZOFFSETTO:-0400
TZNAME:EDT
END:DAYLIGHT
END:VTIMEZONE
END:VCALENDAR