BEGIN:VCALENDAR
VERSION:2.0
PRODID:-//wp-events-plugin.com//7.2.3.1//EN
TZID:America/Detroit
X-WR-TIMEZONE:America/Detroit
BEGIN:VEVENT
UID:31384@arabamerica.com
DTSTART;TZID=America/Detroit:20230713T100000
DTEND;TZID=America/Detroit:20230713T113000
DTSTAMP:20230712T005859Z
URL:https://www.arabamerica.com/events/the-israeli-attack-on-jenin-legal-a
 nd-political-implications/
SUMMARY:The Israeli Attack on Jenin: Legal and Political Implications
DESCRIPTION:Online\n\n&nbsp\;\n\nArab Center Washington DC is convening a p
 anel of experts to discuss what took place in the Jenin camp and what the 
 implications will be for all parties involved. What happened during the tw
 o days when the Israeli military raided the Jenin refugee camp? What human
  rights abuses and legal violations were committed? What led to this opera
 tion? What have responses been from the different players involved\, inclu
 ding allies and international organizations serving the Palestinian people
 ?
ATTACH;FMTTYPE=image/jpeg:https://www.arabamerica.com/wp-content/uploads/2
 023/07/Screen-Shot-2023-07-11-at-20.58.09.png
END:VEVENT
BEGIN:VTIMEZONE
TZID:America/Detroit
X-LIC-LOCATION:America/Detroit
BEGIN:DAYLIGHT
DTSTART:20230312T030000
TZOFFSETFROM:-0500
TZOFFSETTO:-0400
TZNAME:EDT
END:DAYLIGHT
END:VTIMEZONE
END:VCALENDAR