BEGIN:VCALENDAR
VERSION:2.0
PRODID:-//wp-events-plugin.com//7.2.3.1//EN
TZID:America/Detroit
X-WR-TIMEZONE:America/Detroit
BEGIN:VEVENT
UID:36232@arabamerica.com
DTSTART;TZID=America/Los_Angeles:20260426T153000
DTEND;TZID=America/Los_Angeles:20260426T183000
DTSTAMP:20260422T014222Z
URL:https://www.arabamerica.com/events/the-last-palestinian-san-francisco/
SUMMARY:The Last Palestinian - San Francisco
DESCRIPTION:Overview\n\n\n\n\n\nA solo show which charts humanity’s spect
 acular downfall. A dark dramedy from Randa Jarrar (Edinburgh Fringe)\n\n\n
 \n\n\n"The Last Palestinian" is a solo show which charts humanity’s spec
 tacular downfall. Wrapped in a shroud\, Asheerah wakes up in 2055 and come
 s to realize that she is the last person on Earth. She finds a friend\, a 
 hologram that carries the consciousness of Italian legal scholar and exper
 t on human rights\, Francesca Albanese. Asheerah learns\, through Francesc
 a’s history channels\, how the world ended\, and how those who resisted 
 carried out justice before their demise. The show debuted at Edinburgh Fri
 nge and is now embarking on it's first US tour. Don't miss the first show 
 of the tour!\n\n\n\n\nWritten and Performed by Randa Jarrar\nDirected &amp
 \; Dramaturgy by D'Lo\n\n\n\n\nDoors open: 3:00pm\nShow starts: 3:30pm (1h
 r performance)\n100% of ticket sales will be donated directly to families 
 in Palestine\n13+ Some strong language\nNo one turned away for lack of fun
 ds\, contact us on Eventbrite.\n\n\n\n\n\n"Jarrar draws inspiration from P
 alestinian folklore. ...For audiences\, Jarrar wants to provide space\, no
 t just to witness\, but to feel\, to grieve and to move." - The National\,
  Scotland\n\n"Channels rage with absurdist humor and outlandish hypothetic
 als... reimagines justice." - The Polis Project\n\n\n\n\nRead less
ATTACH;FMTTYPE=image/jpeg:https://www.arabamerica.com/wp-content/uploads/2
 026/04/SAN-FRAN.webp
LOCATION:The Lost Church\, 988 Columbus Avenue\, San Francisco \, CA\, 9413
 3\, United States
GEO:37.803443;-122.414392
X-APPLE-STRUCTURED-LOCATION;VALUE=URI;X-ADDRESS=988 Columbus Avenue\, San F
 rancisco \, CA\, 94133\, United States;X-APPLE-RADIUS=100;X-TITLE=The Lost
  Church:geo:37.803443,-122.414392
END:VEVENT
BEGIN:VTIMEZONE
TZID:America/Los_Angeles
X-LIC-LOCATION:America/Los_Angeles
BEGIN:DAYLIGHT
DTSTART:20260308T030000
TZOFFSETFROM:-0800
TZOFFSETTO:-0700
TZNAME:PDT
END:DAYLIGHT
END:VTIMEZONE
END:VCALENDAR