BEGIN:VCALENDAR
VERSION:2.0
PRODID:-//wp-events-plugin.com//7.2.3.1//EN
TZID:America/Detroit
X-WR-TIMEZONE:America/Detroit
BEGIN:VEVENT
UID:32957@arabamerica.com
DTSTART;TZID=America/Detroit:20240605T190000
DTEND;TZID=America/Detroit:20240605T210000
DTSTAMP:20240605T044456Z
URL:https://www.arabamerica.com/events/the-law-and-the-prophets-2/
SUMMARY:The Law and the Prophets
DESCRIPTION:PORTLAND\, ME\n\nThe Law and the Prophets\n\nWednesday\, June 5
 \, 2024\n\n7:00 PM  9:00 PM\n\nThe Washington Baths\,145 Washington Aven
 ue\n\nPortland\, ME\, 04101United States (map)\n\nGoogle Calendar  ICS\
 n\nThe Law and the Prophets is a documentary film that explores the mechan
 isms of control and subjugation Israel employs to maintain its system of a
 partheid under occupation. It examines the brutal realities of occupation 
 in its day to day operation\, giving us a window into the context within w
 hich the attacks of October 7th\, and the ensuing war on Gaza\, emerged.\n
 \nMaine Palestine Film Collective is very honored to have director Joshua 
 Vis joining us to present a special screening of his film\, to be followed
  by an open conversation with him about the film and his experiences livin
 g in occupied Palestine.\n\nSource: https://www.instagram.com/p/C7juMZws_
 xA/
ATTACH;FMTTYPE=image/jpeg:https://www.arabamerica.com/wp-content/uploads/2
 024/06/Screenshot-2024-06-04-213431.png
LOCATION:The Washington Baths\, 145 Washington Avenue\, Portland\, ME\, 041
 01\, United States
GEO:43.668147;-70.253324
X-APPLE-STRUCTURED-LOCATION;VALUE=URI;X-ADDRESS=145 Washington Avenue\, Por
 tland\, ME\, 04101\, United States;X-APPLE-RADIUS=100;X-TITLE=The Washingt
 on Baths:geo:43.668147,-70.253324
END:VEVENT
BEGIN:VTIMEZONE
TZID:America/Detroit
X-LIC-LOCATION:America/Detroit
BEGIN:DAYLIGHT
DTSTART:20240310T030000
TZOFFSETFROM:-0500
TZOFFSETTO:-0400
TZNAME:EDT
END:DAYLIGHT
END:VTIMEZONE
END:VCALENDAR