BEGIN:VCALENDAR
VERSION:2.0
PRODID:-//wp-events-plugin.com//7.2.3.1//EN
TZID:America/Detroit
X-WR-TIMEZONE:America/Detroit
BEGIN:VEVENT
UID:31699@arabamerica.com
DTSTART;TZID=America/Detroit:20230930T100000
DTEND;TZID=America/Detroit:20230930T123000
DTSTAMP:20230919T023650Z
URL:https://www.arabamerica.com/events/the-lebanese-brunch/
SUMMARY:The Lebanese Brunch
DESCRIPTION:Experience and indulge in a fabulous Lebanese Brunch at this ha
 nds-on class. A delictable\, fragrant and colorful mosaic of eggs\, beans\
 , vegetables\, cheeses\, olives and bread. Chef Rawia will share with you 
 her family recipes for this important meal in the Middle East.\n\nLearning
  objectives: Working with spices: sumac and zaatar blends\, method for Leb
 anese flatbreads\, traditional marinades\, dips\, and sauces\, procedure f
 or Middle Eastern stuffed hand pies.\n\nMenu: Cheese Manouche: Flatbread w
 ith Cheese Topping\; Zaatar Manouche: Flatbread with Thyme and Olive Oil T
 opping\; Shakshuka: Eggs Poached in Tomato Sauce\; Chickpea Fatte with Yog
 urt &amp\; Pita\; Fatayer: Hand Pies filled with Spinach\, Onion &amp\; Su
 mac\; Lahem B'Ajine: Flatbread with Spiced Beef Topping\; Knafeh: Kataifi 
 Dough with Sweet Cheese and Orange Blossom Syrup
ATTACH;FMTTYPE=image/jpeg:https://www.arabamerica.com/wp-content/uploads/2
 023/09/Prep.jpeg
CATEGORIES:Community,Food
LOCATION:8623 Mayfield Rd\, 8623 &amp\; 8700\, 8613\, 8623 Mayfield Rd\, Ch
 esterland\, OH\, 44026\, United States
GEO:41.521837;-81.334076
X-APPLE-STRUCTURED-LOCATION;VALUE=URI;X-ADDRESS=8623 & 8700\, 8613\, 8623 M
 ayfield Rd\, Chesterland\, OH\, 44026\, United States;X-APPLE-RADIUS=100;X
 -TITLE=8623 Mayfield Rd:geo:41.521837,-81.334076
END:VEVENT
BEGIN:VTIMEZONE
TZID:America/Detroit
X-LIC-LOCATION:America/Detroit
BEGIN:DAYLIGHT
DTSTART:20230312T030000
TZOFFSETFROM:-0500
TZOFFSETTO:-0400
TZNAME:EDT
END:DAYLIGHT
END:VTIMEZONE
END:VCALENDAR