BEGIN:VCALENDAR
VERSION:2.0
PRODID:-//wp-events-plugin.com//7.2.3.1//EN
TZID:America/Detroit
X-WR-TIMEZONE:America/Detroit
BEGIN:VEVENT
UID:31694@arabamerica.com
DTSTART;TZID=America/Detroit:20230922T110000
DTEND;TZID=America/Detroit:20231020T110000
DTSTAMP:20230919T022219Z
URL:https://www.arabamerica.com/events/the-lebanon-experience-2/
SUMMARY:The Lebanon Experience
DESCRIPTION:\n 	Train Ride on the LM&amp\;M Railroad\n 	Lunch at the Histor
 ic Golden Lamb\n 	Air Plant Workshop with Thimble Gardens\n 	Ice Cream at 
 the Village Parlor\n 	Paintings and historic collections at the Harmon Mus
 eum and Art Gallery\n\nThis event will include a 1 hour and 15 minute trai
 n ride departing at 11am.  From there you will proceed to the Golden Lamb
  for lunch at 12:30pm.  Lunch and the Air Plant Garden Workshop courtesy 
 of Thimble Gardens  will all take place and be completed in the comforts 
 of the historic beautiful Golden Lambs Presidents Room located upstairs. 
  A voucher will then be provided for an Ice Cream product at the Village P
 arlor. Once you are full of great food\, feel free to walk across the str
 eet to the Harmon Museum and Art Gallery.  The museum contains paintings\
 , decorative arts and historic collections from prehistoric eras to the mi
 d-20th century.
ATTACH;FMTTYPE=image/jpeg:https://www.arabamerica.com/wp-content/uploads/2
 023/09/the-lebanon-experience.jpeg
CATEGORIES:Arab,Arab Ameircan Event,Arab American
LOCATION:Lebanon Mason & Monroe Railroad\, 16 East South Street\, Lebanon\,
  OH\, 45036\, United States
GEO:39.432452;-84.207582
X-APPLE-STRUCTURED-LOCATION;VALUE=URI;X-ADDRESS=16 East South Street\, Leba
 non\, OH\, 45036\, United States;X-APPLE-RADIUS=100;X-TITLE=Lebanon Mason 
 & Monroe Railroad:geo:39.432452,-84.207582
END:VEVENT
BEGIN:VTIMEZONE
TZID:America/Detroit
X-LIC-LOCATION:America/Detroit
BEGIN:DAYLIGHT
DTSTART:20230312T030000
TZOFFSETFROM:-0500
TZOFFSETTO:-0400
TZNAME:EDT
END:DAYLIGHT
END:VTIMEZONE
END:VCALENDAR