BEGIN:VCALENDAR
VERSION:2.0
PRODID:-//wp-events-plugin.com//7.2.3.1//EN
TZID:America/Detroit
X-WR-TIMEZONE:America/Detroit
BEGIN:VEVENT
UID:33551@arabamerica.com
DTSTART;TZID=America/Detroit:20241030T110000
DTEND;TZID=America/Detroit:20241030T121500
DTSTAMP:20240923T171053Z
URL:https://www.arabamerica.com/events/the-making-of-the-modern-muslim-sta
 te-islam-and-governance-in-the-middle-east-and-north-africa/
SUMMARY:The Making of the Modern Muslim State: Islam and Governance in the 
 Middle East and North Africa
DESCRIPTION:Online Zoom Webinar\n\nChallenging claims that Middle Eastern s
 tates have become secular in modern times\, this Crown Seminar features 
 Malika Zeghal\, in conversation with Eva Bellin. Zeghal will offer an inno
 vative analysis of the continuity of the state's custodianship of Islam as
  the preferred religion based on her new book\, The Making of the Modern 
 Muslim State: Islam and Governance in the Middle East and North Africa (P
 rinceton 2024). Spanning Tunisia\, Morocco\, Egypt\, Turkey\, Syria\, and 
 Lebanon\, her work highlights the deep historical roots of current politic
 al divisions over Islam in governance.\n\nMalika Zeghal is the Prince Alw
 aleed Bin Talal Professor in Contemporary Islamic Thought and Life in the 
 Department of Near Eastern Languages and Civilizations and the Committee o
 n the Study of Religion at Harvard University.\n\nEva Bellin is the Myra 
 and Robert Kraft Professor of Arab Politics in the Department of Politics 
 and the Crown Center for Middle East Studies at Brandeis University.\n\nTh
 is event is free and open to the public.\n\n&nbsp\;\n\nOctober 30\, 2024\n
 11am -12:15pm EST\nOnline (registration required)
ATTACH;FMTTYPE=image/jpeg:https://www.arabamerica.com/wp-content/uploads/2
 024/09/53DC8610-B66E-45A3-BE98-1E5F13C79A7F.jpeg
END:VEVENT
BEGIN:VTIMEZONE
TZID:America/Detroit
X-LIC-LOCATION:America/Detroit
BEGIN:DAYLIGHT
DTSTART:20240310T030000
TZOFFSETFROM:-0500
TZOFFSETTO:-0400
TZNAME:EDT
END:DAYLIGHT
END:VTIMEZONE
END:VCALENDAR