BEGIN:VCALENDAR
VERSION:2.0
PRODID:-//wp-events-plugin.com//7.2.3.1//EN
TZID:America/Detroit
X-WR-TIMEZONE:America/Detroit
BEGIN:VEVENT
UID:32801@arabamerica.com
DTSTART;TZID=America/Detroit:20240911T180000
DTEND;TZID=America/Detroit:20240911T190000
DTSTAMP:20240507T045730Z
URL:https://www.arabamerica.com/events/the-middle-east-and-world-order-a-f
 oreign-policy-discussion-series/
SUMMARY:The Middle East and World Order: A Foreign Policy Discussion Series
DESCRIPTION:MD.\n\nThe Middle East and World Order: A Foreign Policy Discus
 sion Series\n\nJoin us for an exciting in-person event at 507 7th St\, 
 Laurel\, MD 20707\, USA where we'll dive into the complexities of the Mid
 dle East and its impact on the world order. This foreign policy discussio
 n series will bring together experts and enthusiasts to explore the regio
 n's history\, politics\, and future prospects. From the Arab Spring to ong
 oing conflicts\, we'll analyze the factors shaping the Middle East's role 
 in the global arena. Don't miss this opportunity to gain valuable insights
  and engage in thought-provoking conversations. Mark your calendars and ge
 t ready for an enlightening event!
LOCATION:507 7th St\, Laurel\, MD\, United States
GEO:39.099275;-76.848306
X-APPLE-STRUCTURED-LOCATION;VALUE=URI;X-ADDRESS=Laurel\, MD\, United States
 ;X-APPLE-RADIUS=100;X-TITLE=507 7th St:geo:39.099275,-76.848306
END:VEVENT
BEGIN:VTIMEZONE
TZID:America/Detroit
X-LIC-LOCATION:America/Detroit
BEGIN:DAYLIGHT
DTSTART:20240310T030000
TZOFFSETFROM:-0500
TZOFFSETTO:-0400
TZNAME:EDT
END:DAYLIGHT
END:VTIMEZONE
END:VCALENDAR