BEGIN:VCALENDAR
VERSION:2.0
PRODID:-//wp-events-plugin.com//7.2.3.1//EN
TZID:America/Detroit
X-WR-TIMEZONE:America/Detroit
BEGIN:VEVENT
UID:33186@arabamerica.com
DTSTART;TZID=America/Detroit:20241019T190000
DTEND;TZID=America/Detroit:20241019T213000
DTSTAMP:20240709T120724Z
URL:https://www.arabamerica.com/events/the-muslim-center-40-year-anniversa
 ry-gala/
SUMMARY:The Muslim Center 40 Year Anniversary Gala
DESCRIPTION:DETROIT\, MN\n\nWelcome to The Muslim Center 40 Year Anniversar
 y Gala!\n\nCome celebrate four decades of community\, growth\, and unity a
 t our special event held at The Muslim Center. Join us for a memorable ev
 ening filled with delicious food\, live entertainment\, and inspiring spea
 kers. This in-person gathering is a great opportunity to connect with fell
 ow community members\, reflect on our past achievements\, and look forward
  to a bright future ahead. Don't miss out on this milestone celebration!
ATTACH;FMTTYPE=image/jpeg:https://www.arabamerica.com/wp-content/uploads/2
 024/07/Screenshot-2024-07-09-050426.png
LOCATION:The Muslim Center\, 1605 Davison Fwy W\, Detroit\, MI\, 48238\, Un
 ited States
GEO:42.3967763;-83.11102840000001
X-APPLE-STRUCTURED-LOCATION;VALUE=URI;X-ADDRESS=1605 Davison Fwy W\, Detroi
 t\, MI\, 48238\, United States;X-APPLE-RADIUS=100;X-TITLE=The Muslim Cente
 r:geo:42.3967763,-83.11102840000001
END:VEVENT
BEGIN:VTIMEZONE
TZID:America/Detroit
X-LIC-LOCATION:America/Detroit
BEGIN:DAYLIGHT
DTSTART:20240310T030000
TZOFFSETFROM:-0500
TZOFFSETTO:-0400
TZNAME:EDT
END:DAYLIGHT
END:VTIMEZONE
END:VCALENDAR