BEGIN:VCALENDAR
VERSION:2.0
PRODID:-//wp-events-plugin.com//7.2.3.1//EN
TZID:America/Detroit
X-WR-TIMEZONE:America/Detroit
BEGIN:VEVENT
UID:35345@arabamerica.com
DTSTART;TZID=America/Detroit:20251113T190000
DTEND;TZID=America/Detroit:20251115T190000
DTSTAMP:20251103T202944Z
URL:https://www.arabamerica.com/events/the-new-york-arab-american-comedy-f
 estival-2025/
SUMMARY:The New York Arab American Comedy Festival 2025
DESCRIPTION:The New York Arab American Comedy Festival is back November 13 
 to 15\, 2025\, with six big shows featuring more than 20 comedians from th
 e U.S.\, Canada\, and even Australia!  Join us for our 22nd Festival show
 casing hilarious comedians who have appeared on everything from The Late S
 how with Stephen Colbert to Comedy Central to “Ramy” to more.  All sh
 ows at Joe’s Pub\, which is part of the famed The Public Theater in lowe
 r Manhattan.\nTickets and details: https://publictheater.org/performances
 -jp/2025/n/new-york-arab-american-comedy-festival/\n\nNew York Arab Americ
 an Comedy Festival\n\n\nThu\, Nov 13th | 7:00 PM\n\n\n\nFri\, Nov 14th 
 | 7:00 PM\n\n\n\nFri\, Nov 14th | 9:30 PM\n\n\n\nSat\, Nov 15th | 4:3
 0 PM\n\n\n\nSat\, Nov 15th | 7:00 PM\n\n\n\nSat\, Nov 15th | 9:30 PM\n
 \n\n\nNow in its 22nd year\, the New York Arab American Comedy Festival r
 eturns to Joe’s Pub!\n\nCelebrating over two decades of groundbreaking t
 alent\, the festival is proud to be back at one of NYC’s most iconic sta
 ges. Join us for 3 nights of bold and hilarious comedy that cannot be cens
 ored.\n\nThursday: \n7 pm: Let Freedom Laugh \nA lineup of festival come
 dians performing five-minute sets that showcase what standing up for free 
 speech and comedy looks like.\n\nPerformers:\nSarah Harvard\nIsmael Loutfi
 \nSalma Hindy\nAtheer Yacoub\nRola Z\nNina Kharoufeh\nMohanad Elshieky\nSh
 atha Yas\nAli Sultan\nHanan Issa\nLaura Laham\nEman El Husseini\nSuzie Afr
 idi\nReem Edan\n\nFriday:\n7 pm: Stand-Ups Stand Strong - In a time when 
 comedy is under attack\, these comedians stand firm with their laughs.\n\n
 Performers:\nLaura Laham\nSalma Hindy\nMohanad Elshieky\nAtheer Yacoub\nDe
 an Obeidallah\nEman Morgan\nMaysoon Zayid\n\nFriday:\n9:30 pm: Seriously H
 aram – For raunchiest\, rawest free-speech comedy\, this is the show fo
 r you!\n\nPerformers:\nHanan Issa\nNina Kharoufeh\nLaura Laham\nShatha Yas
 \nSalma Hindy\nEman El Husseini\nEman Morgan\nIsmael Loutfi\nDave Merheje\
 n\nSaturday:\n4:30 pm Arab Comedy Happy Hour\nSome of the best comedians o
 f the festival kick off your Saturday night with this late-afternoon show.
 \n\nPerformers:\nGoRemy\nDean Obeidallah\nMahmoud Jaber\nMajdy Fares\nMays
 oon Zayid\nSarah Harvard\nMohanad Elshieky\nSuzie Afridi\nAtheer Yacoub\nA
 bdallah Jasmin\n\nSaturday:\n7 pm: Legends of Comedy– Featuring comedian
 s you’ve seen on TV and heard on the radio\, guaranteed to make you laug
 h.\n\nPerformers:\nGoRemy\nReem Edan\nShatha Yas\nMajdy Fares\nDina Hashem
 \nNina Kharoufeh\nRola Z\nDean Obeidallah\nDave Merheje\nFady Rizk\n\nSatu
 rday:\n9:30 pm Arab All-Stars – Our top headliners close out the festiva
 l with a spectacular show.\n\nPerformers:\nGoRemy\nIsmael Loutfi\nReem Eda
 n\nJonathan Elias\nMohanad Elshieky\nMohamed Alghondakly\nMaysoon Zayid\nC
 hristian John\nEman Morgan\nDave Merheje\nDemetrius Fields\n\nChatGPT said
 :
ATTACH;FMTTYPE=image/jpeg:https://www.arabamerica.com/wp-content/uploads/2
 025/11/Screenshot-2025-11-03-at-3.22.52-PM.png
LOCATION:Joe's Pub\, 425 Lafayette St \, New York \, New York \, 10003 \, U
 nited States
GEO:40.72902;-73.99175
X-APPLE-STRUCTURED-LOCATION;VALUE=URI;X-ADDRESS=425 Lafayette St \, New Yor
 k \, New York \, 10003 \, United States;X-APPLE-RADIUS=100;X-TITLE=Joe's P
 ub:geo:40.72902,-73.99175
END:VEVENT
BEGIN:VTIMEZONE
TZID:America/Detroit
X-LIC-LOCATION:America/Detroit
BEGIN:STANDARD
DTSTART:20251102T010000
TZOFFSETFROM:-0400
TZOFFSETTO:-0500
TZNAME:EST
END:STANDARD
END:VTIMEZONE
END:VCALENDAR