BEGIN:VCALENDAR
VERSION:2.0
PRODID:-//wp-events-plugin.com//7.2.3.1//EN
TZID:America/Detroit
X-WR-TIMEZONE:America/Detroit
BEGIN:VEVENT
UID:35554@arabamerica.com
DTSTART;TZID=America/Detroit:20260418T000000
DTEND;TZID=America/Detroit:20260418T000000
DTSTAMP:20251212T172743Z
URL:https://www.arabamerica.com/events/the-rene-moawad-foundation-17th-ann
 ual-miami-gala-dinner/
SUMMARY:The René Moawad Foundation 17th Annual Miami Gala Dinner
DESCRIPTION:
LOCATION:The Four Seasons Hotel Miami\, 1435 Brickell Ave\, Miami\, FL\, 33
 131\, United States
GEO:25.758981;-80.192081
X-APPLE-STRUCTURED-LOCATION;VALUE=URI;X-ADDRESS=1435 Brickell Ave\, Miami\,
  FL\, 33131\, United States;X-APPLE-RADIUS=100;X-TITLE=The Four Seasons Ho
 tel Miami:geo:25.758981,-80.192081
END:VEVENT
BEGIN:VTIMEZONE
TZID:America/Detroit
X-LIC-LOCATION:America/Detroit
BEGIN:DAYLIGHT
DTSTART:20260308T030000
TZOFFSETFROM:-0500
TZOFFSETTO:-0400
TZNAME:EDT
END:DAYLIGHT
END:VTIMEZONE
END:VCALENDAR