BEGIN:VCALENDAR
VERSION:2.0
PRODID:-//wp-events-plugin.com//7.2.3.1//EN
TZID:America/Detroit
X-WR-TIMEZONE:America/Detroit
BEGIN:VEVENT
UID:33229@arabamerica.com
DTSTART;TZID=America/Detroit:20240720T120000
DTEND;TZID=America/Detroit:20240721T210000
DTSTAMP:20240718T175049Z
URL:https://www.arabamerica.com/events/the-revolutions-promise-falasteen-a
 rt-festival/
SUMMARY:The Revolution's Promise - Falasteen Art Festival
DESCRIPTION:HOUSTON\, TX\n\n&nbsp\;\n\n\n\n\n\n\n\n\n\nFalasteen Arts Festi
 val\, with the production of Actors Across Border is proud to present the 
 first ever staging of The Revolution’s Promise in Houston\, TX on July 2
 0th &amp\; 21st.\n\nThe Revolution’s Promise weaves together a tapestry 
 of 15 different Palestinian artists as they tell their stories of cultural
  resistance and artistic censorship\, spanning as far back as the Nakba in
  1948.\n\nThe performance will be held at the Rec Room Arts in Downtown Ho
 uston for a celebration of Palestinian art and culture! The Palestine exhi
 bition will be an immersive art show depicting Palestinian culture and his
 tory using three art forms: live performance\, digital storytelling\, and 
 physical art installations.\n\nWe look forward to sharing The Revolution
 ’s Promise with you and hope that this performance can fuel the spirit o
 f resistance within our community.\n\n\n\n\n\n\n\n\n\n\n\n\n\n\n\n\n\n\n\n
 \n\n\n\n\n
ATTACH;FMTTYPE=image/jpeg:https://www.arabamerica.com/wp-content/uploads/2
 024/07/Screenshot-2024-07-17-at-7.01.34 PM.png
LOCATION:Rec Room Arts\, 100 Jackson Street #130C\, Houston\, TX\, 77002\, 
 United States
GEO:29.760031;-95.353927
X-APPLE-STRUCTURED-LOCATION;VALUE=URI;X-ADDRESS=100 Jackson Street #130C\, 
 Houston\, TX\, 77002\, United States;X-APPLE-RADIUS=100;X-TITLE=Rec Room A
 rts:geo:29.760031,-95.353927
END:VEVENT
BEGIN:VTIMEZONE
TZID:America/Detroit
X-LIC-LOCATION:America/Detroit
BEGIN:DAYLIGHT
DTSTART:20240310T030000
TZOFFSETFROM:-0500
TZOFFSETTO:-0400
TZNAME:EDT
END:DAYLIGHT
END:VTIMEZONE
END:VCALENDAR