BEGIN:VCALENDAR
VERSION:2.0
PRODID:-//wp-events-plugin.com//7.2.3.1//EN
TZID:America/Detroit
X-WR-TIMEZONE:America/Detroit
BEGIN:VEVENT
UID:31523@arabamerica.com
DTSTART;TZID=America/Detroit:20230825T120000
DTEND;TZID=America/Detroit:20230825T120000
DTSTAMP:20230807T224909Z
URL:https://www.arabamerica.com/events/the-tent-generations-palestinian-po
 ems-book-talk-with-mohammed-sawaie-2/
SUMMARY:'The Tent Generations: Palestinian Poems' - Book talk with Mohammed
  Sawaie
DESCRIPTION:\n\nAbout this event\n\n\n\n\n\nJoin us on Friday\, August 25 f
 or our next in-person cultural event\, a discussion with Dr. Mohammed Sawa
 ie on his new book of translated Palestinian poetry\, The Tent Generations
 .\n\n&nbsp\;\n\nThe Tent Generations brings together the work of a select 
 number of Palestinian poets over the past seven decades who gives expressi
 on to the Palestinian experience under Israeli rule and Israeli occupation
 \, as well as the experience of dispersion and displacement from their hom
 eland following the Nakba and subsequent wars. This collection shows how P
 alestinian poets used their poetry to describe their relationship to the P
 alestinian people\, their homeland\, and the presence of an Israeli occupi
 er in their midst.\n\nAbout the Speaker\n\nDr. Mohammad Sawaie’s lifelon
 g love for the Arabic language has made him an authority on the sociolingu
 istic\, historical\, and grammatical aspects of Arabic. His “Fundamental
 s of Arabic Grammar” (Routledge 2014) has helped transform the teaching 
 of Arabic in North America. “The Tent Generations” is the latest title
  in an impressive bibliography of over ten books in English and Arabic\, w
 hich can be found in libraries worldwide\, including “Linguistic Variati
 on and Speaker’s Attitudes: A Sociolinguistic Study of Some Arabic Diale
 cts” (1994)\, and “Arabic-Speaking Migrants in the United States and C
 anada: a Bibliographical Guide with Annotation” (1985).\n\n&nbsp\;\n\nSa
 waie\, Professor of Arabic at the University of Virginia\, is a self-descr
 ibed “passionate reader of both English and Arabic on issues related to 
 Arabic literary production\, the Middle East generally and Palestine in pa
 rticular”\, a passion that comes through in “The Tent Generations”. 
 An avid gardener as well as researcher\, he has brought “the search for 
 translatable poets and poems were not translated previously\, or unknown t
 o English readers” to create a work of exquisite beauty and profound eth
 ical engagement.\n\n\n\n
ATTACH;FMTTYPE=image/jpeg:https://www.arabamerica.com/wp-content/uploads/2
 023/08/https___cdn.evbuc_.com_images_567124829_1305746759483_1_original.jp
 eg
CATEGORIES:#arabic,Arab Ameircan Event,Arab
 American,Community,culture,Discussion
LOCATION:The Jerusalem Fund 2425 Virginia Ave NW Washington\, The Jerusalem
  Fund 2425 Virginia Ave NW Washington\, DC 20037\, DC\, USA\, United State
 s
GEO:38.898738;-77.052585
X-APPLE-STRUCTURED-LOCATION;VALUE=URI;X-ADDRESS=The Jerusalem Fund 2425 Vir
 ginia Ave NW Washington\, DC 20037\, DC\, USA\, United States;X-APPLE-RADI
 US=100;X-TITLE=The Jerusalem Fund 2425 Virginia Ave NW Washington:geo:38.8
 98738,-77.052585
END:VEVENT
BEGIN:VTIMEZONE
TZID:America/Detroit
X-LIC-LOCATION:America/Detroit
BEGIN:DAYLIGHT
DTSTART:20230312T030000
TZOFFSETFROM:-0500
TZOFFSETTO:-0400
TZNAME:EDT
END:DAYLIGHT
END:VTIMEZONE
END:VCALENDAR