BEGIN:VCALENDAR
VERSION:2.0
PRODID:-//wp-events-plugin.com//7.2.3.1//EN
TZID:America/Detroit
X-WR-TIMEZONE:America/Detroit
BEGIN:VEVENT
UID:31011@arabamerica.com
DTSTART;TZID=America/Detroit:20230930T183000
DTEND;TZID=America/Detroit:20230930T230000
DTSTAMP:20230510T174500Z
URL:https://www.arabamerica.com/events/the-unions-annual-benefit-for-pales
 tine-3/
SUMMARY:The Union's Annual Benefit for Palestine
DESCRIPTION:\n\n\n\nCosta Mesa\, CA\nThe Union is excited to announce our m
 ost exciting lineup yet honoring Congresswoman Rashida Tlaib with live mus
 ic by Jamal Kassab and hosted by Caucasian Arab of Tik Tok fame.\n\nDinner
  included in all ticket purchases.\n\n\n\n\n\n\n\n\n\n
ATTACH;FMTTYPE=image/jpeg:https://www.arabamerica.com/wp-content/uploads/2
 023/05/Screen-Shot-2023-05-10-at-1.44.17-PM.png
CATEGORIES:Benefit
LOCATION:The Westin South Coast Plaza\, Costa Mesa\, 686 Anton Boulevard\, 
 Costa Mesa\, CA\, 92626\, United States
GEO:33.690808;-117.884184
X-APPLE-STRUCTURED-LOCATION;VALUE=URI;X-ADDRESS=686 Anton Boulevard\, Costa
  Mesa\, CA\, 92626\, United States;X-APPLE-RADIUS=100;X-TITLE=The Westin S
 outh Coast Plaza\, Costa Mesa:geo:33.690808,-117.884184
END:VEVENT
BEGIN:VTIMEZONE
TZID:America/Detroit
X-LIC-LOCATION:America/Detroit
BEGIN:DAYLIGHT
DTSTART:20230312T030000
TZOFFSETFROM:-0500
TZOFFSETTO:-0400
TZNAME:EDT
END:DAYLIGHT
END:VTIMEZONE
END:VCALENDAR