BEGIN:VCALENDAR
VERSION:2.0
PRODID:-//wp-events-plugin.com//7.2.3.1//EN
TZID:America/Detroit
X-WR-TIMEZONE:America/Detroit
BEGIN:VEVENT
UID:35046@arabamerica.com
DTSTART;TZID=America/Los_Angeles:20251030T133000
DTEND;TZID=America/Los_Angeles:20251030T150000
DTSTAMP:20250828T070743Z
URL:https://www.arabamerica.com/events/the-united-states-and-iran-decades-
 of-misunderstanding-a-crown-seminar-with-barbara-leaf-and-vali-nasr-the-un
 ited-states-and-iran-decades-of-misunderstanding-a-crown-seminar-with-barb
 ara-leaf/
SUMMARY:The United States and Iran: Decades of Misunderstanding? | A Crown 
 Seminar with Barbara Leaf and Vali Nasr The United States and Iran: Decade
 s of Misunderstanding? | A Crown Seminar with Barbara Leaf and Vali Nasr
DESCRIPTION:In June 2025\, the United States and Iran entered their most di
 rect confrontation in decades—crossing red lines and exposing the danger
 s of misreading one another’s intentions. On the occasion of the publica
 tion of Vali Nasr’s latest book Iran’s Grand Strategy: A Political His
 tory\, join Nasr and Barbara Leaf\, former U.S. Assistant Secretary of Sta
 te and Ambassador to the UAE\, for a special conversation moderated by Nag
 hmeh Sohrabi about how Washington and Tehran understand—and misunderstan
 d—each other\, and where U.S.–Iran relations might go next. Vali Nasr 
 is the Majid Khadduri Professor of International Affairs and Middle East S
 tudies at the Johns Hopkins University School of Advanced International St
 udies (SAIS). Barbara A. Leaf is a senior international policy advisor for
  Arnold &amp\; Porter\, and former U.S. assistant secretary of state for N
 ear Eastern affairs and U.S. ambassador to the United Arab Emirates. Naghm
 eh Sohrabi is the Charles (Corky) Goodman Professor of Middle East History
  and the director for research at the Crown Center for Middle East Studies
 .
ATTACH;FMTTYPE=image/jpeg:https://www.arabamerica.com/wp-content/uploads/2
 025/08/IMG_0438.png
END:VEVENT
BEGIN:VTIMEZONE
TZID:America/Los_Angeles
X-LIC-LOCATION:America/Los_Angeles
BEGIN:DAYLIGHT
DTSTART:20250309T030000
TZOFFSETFROM:-0800
TZOFFSETTO:-0700
TZNAME:PDT
END:DAYLIGHT
END:VTIMEZONE
END:VCALENDAR