BEGIN:VCALENDAR
VERSION:2.0
PRODID:-//wp-events-plugin.com//7.2.3.1//EN
TZID:America/Detroit
X-WR-TIMEZONE:America/Detroit
BEGIN:VEVENT
UID:32387@arabamerica.com
DTSTART;TZID=America/Detroit:20240315T183000
DTEND;TZID=America/Detroit:20240315T213000
DTSTAMP:20240304T205242Z
URL:https://www.arabamerica.com/events/the-unity-in-community-amas-iftar-a
 nd-fundraiser/
SUMMARY:The UNITY in COMMUNITY: AMA's Iftar and Fundraiser
DESCRIPTION:AZ.\n\n\nJoin us for the AMA Ramadan Fundraiser &amp\; Iftar!\n
 Get ready to celebrate the holy month of Ramadan with the Arizona Muslim A
 lliance (AMA) at our exciting fundraising event. This gathering will take 
 place on Friday\, March 15 at Pearl's Banquet Hall in Mesa.\n\nEnjoy a
  delicious iftar meal with an array of mouthwatering dishes and traditiona
 l Ramadan delicacies. Experience the joy of breaking your fast with fellow
  community members\, friends\, and family. Our event aims to foster unity\
 , strengthen bonds\, and support AMA during this blessed month.\n\nAt the 
 AMA Ramadan Fundraiser &amp\; Iftar\, you'll have the opportunity to contr
 ibute to various AMA initiatives that will sustain our beloved organizatio
 n and help propel us into the future!\n\nJoin us for an evening filled wit
 h warmth\, compassion\, and the spirit of giving. Come together with your 
 loved ones to enjoy a memorable iftar experience while gaining knowledge f
 rom our renowned Sheikh AbdulNasir Jangda.\n\nDon't miss out on this incre
 dible event! Mark your calendars and spread the word. We look forward to w
 elcoming you to Pearl's Banquet Hall for the AMA Ramadan Fundraiser &amp\;
  Iftar!\n\n\n\n\n\n\n\n
ATTACH;FMTTYPE=image/jpeg:https://www.arabamerica.com/wp-content/uploads/2
 024/03/https___cdn.evbuc_.com_images_709672749_330332494687_1_original.jpe
 g
CATEGORIES:Community,Food
LOCATION:Pearl's Banquet Hall\, 1455 South Stapley  \, Mesa\, AZ\, United S
 tates
GEO:33.388022;-111.804039
X-APPLE-STRUCTURED-LOCATION;VALUE=URI;X-ADDRESS=1455 South Stapley  \, Mesa
 \, AZ\, United States;X-APPLE-RADIUS=100;X-TITLE=Pearl's Banquet Hall:geo:
 33.388022,-111.804039
END:VEVENT
BEGIN:VTIMEZONE
TZID:America/Detroit
X-LIC-LOCATION:America/Detroit
BEGIN:DAYLIGHT
DTSTART:20240310T030000
TZOFFSETFROM:-0500
TZOFFSETTO:-0400
TZNAME:EDT
END:DAYLIGHT
END:VTIMEZONE
END:VCALENDAR