BEGIN:VCALENDAR
VERSION:2.0
PRODID:-//wp-events-plugin.com//7.2.3.1//EN
TZID:America/Detroit
X-WR-TIMEZONE:America/Detroit
BEGIN:VEVENT
UID:34653@arabamerica.com
DTSTART;TZID=America/Detroit:20250626T120000
DTEND;TZID=America/Detroit:20250626T133000
DTSTAMP:20250624T201922Z
URL:https://www.arabamerica.com/events/the-us-role-in-israels-war-on-iran-
 regional-and-global-implications/
SUMMARY:The US Role in Israel’s War on Iran: Regional and Global Implicat
 ions
DESCRIPTION:ON ZOOM\n\nArab Center Washington DC is hosting a webinar to ex
 amine the United States’ role in the Israel-Iran conflict\, focusing on 
 the extent of its involvement and the strategic objectives it seeks to adv
 ance. Panelists will assess how the policies and actions of the Trump admi
 nistration influenced the conflict’s trajectory and continue to shape re
 gional dynamics in the Middle East.
ATTACH;FMTTYPE=image/jpeg:https://www.arabamerica.com/wp-content/uploads/2
 025/06/Screenshot-2025-06-24-at-4.19.02 PM.png
END:VEVENT
BEGIN:VTIMEZONE
TZID:America/Detroit
X-LIC-LOCATION:America/Detroit
BEGIN:DAYLIGHT
DTSTART:20250309T030000
TZOFFSETFROM:-0500
TZOFFSETTO:-0400
TZNAME:EDT
END:DAYLIGHT
END:VTIMEZONE
END:VCALENDAR