BEGIN:VCALENDAR
VERSION:2.0
PRODID:-//wp-events-plugin.com//7.2.3.1//EN
TZID:America/Detroit
X-WR-TIMEZONE:America/Detroit
BEGIN:VEVENT
UID:35038@arabamerica.com
DTSTART;TZID=America/Detroit:20250820T120000
DTEND;TZID=America/Detroit:20250820T140000
DTSTAMP:20250827T022840Z
URL:https://www.arabamerica.com/events/the-vegan-experience-with-tunisia/
SUMMARY:The Vegan Experience with Tunisia
DESCRIPTION:ANDERSON\, IN\n\n&nbsp\;\n\nJoin me at Cultured Urban Winery fo
 r an afternoon of amazing vegan dishes\, aromatic wines\, and a vibrant at
 mosphere.\n\n\n\nWelcome to The Vegan Experience with Tunisia! Join us at 
 Cultured Urban Winery on September 20\, 2025 at 12:00 PM for a delightful 
 culinary journey. Indulge in a variety of plant-based dishes inspired by T
 unisia. Health and Wellness Coach\, and Vegan Travel Connoisseur for well 
 over 10 years who is eager to share her favorite recipes and dishes!. Whet
 her you're a seasoned vegan or just curious about plant-based eating\, thi
 s event is perfect for you. Let's explore the flavors of plant-based dinin
 g together! Don't miss out on this unique experience. See you there!\n\nVi
 sit her Youtube Channel - -https://youtube.com/@veganlifewithnisia\n\nInst
 agram -- @nisia.the.vegan\n\nFacebook-- Vegan Life with Nisia\n\n\n\nGET T
 ICKETS HERE
ATTACH;FMTTYPE=image/jpeg:https://www.arabamerica.com/wp-content/uploads/2
 025/08/Screenshot-2025-08-26-at-10.11.59-PM.png
LOCATION:Cultured Urban Winery\, 1013 Meridian Street\, Anderson\, IN\, 460
 16\, United States
GEO:40.105675;-85.679504
X-APPLE-STRUCTURED-LOCATION;VALUE=URI;X-ADDRESS=1013 Meridian Street\, Ande
 rson\, IN\, 46016\, United States;X-APPLE-RADIUS=100;X-TITLE=Cultured Urba
 n Winery:geo:40.105675,-85.679504
END:VEVENT
BEGIN:VTIMEZONE
TZID:America/Detroit
X-LIC-LOCATION:America/Detroit
BEGIN:DAYLIGHT
DTSTART:20250309T030000
TZOFFSETFROM:-0500
TZOFFSETTO:-0400
TZNAME:EDT
END:DAYLIGHT
END:VTIMEZONE
END:VCALENDAR