BEGIN:VCALENDAR
VERSION:2.0
PRODID:-//wp-events-plugin.com//7.2.3.1//EN
TZID:America/Detroit
X-WR-TIMEZONE:America/Detroit
BEGIN:VEVENT
UID:35770@arabamerica.com
DTSTART;TZID=America/Detroit:20260130T183000
DTEND;TZID=America/Detroit:20260130T210000
DTSTAMP:20260127T181059Z
URL:https://www.arabamerica.com/events/the-voice-of-hind-rajab-at-the-ford
 -community-preforming-arts-center/
SUMMARY:The Voice of Hind Rajab at The Ford Community & Preforming Arts Cen
 ter
DESCRIPTION:\n\n\nSee the acclaimed The Voice of Hind Rajab with proceeds f
 rom this special screening supporting HEAL Palestine.\n\n\n\n\n\n\nJoin us
  for a special community screening of The Voice of Hind Rajab. Released i
 n December 2025\, this urgent and unforgettable film has received internat
 ional acclaim\, earning a Golden Globe nomination and a place on the Ac
 ademy Award shortlist.\n\nThe film tells the true story that gripped the w
 orld:\n\nOn January 29\, 2024\, Red Crescent volunteers received an emerge
 ncy call. A six-year old girl is trapped in a car under fire in Gaza\, ple
 ading for rescue. While trying to keep her on the line\, they do everythin
 g they can to get an ambulance to her. Her name was Hind Rajab.\n\nThe Voi
 ce of Hind Rajab brings her final call\, and the heroic efforts to save h
 er\, to the screen with profound care and emotional force. It is a film th
 at compels us to remember\, to bear witness\, and to act.\n\nThis Dearborn
  screening is an opportunity for our community to come together in reflect
 ion\, solidarity\, and purpose.\n\nEvent proceeds from this special screen
 ing benefit HEAL Palestine\, delivering urgent relief and long-term suppo
 rt to Palestinian children and families.\n\nWe invite you to honor Hind’
 s voice and story.\n\nCan't make it to this screening? Now showing nationw
 ide. Visit TheVoiceOfHindRajabFilm.com to find one near you.\n\n\n\n\n\n
ATTACH;FMTTYPE=image/jpeg:https://www.arabamerica.com/wp-content/uploads/2
 026/01/image-4-1.webp
LOCATION:Ford Community & Performing Arts Center\, 15801 Michigan Avenue\, 
 Dearborn\, MI\, 48126\, United States
GEO:42.314087;-83.197163
X-APPLE-STRUCTURED-LOCATION;VALUE=URI;X-ADDRESS=15801 Michigan Avenue\, Dea
 rborn\, MI\, 48126\, United States;X-APPLE-RADIUS=100;X-TITLE=Ford Communi
 ty & Performing Arts Center:geo:42.314087,-83.197163
END:VEVENT
BEGIN:VTIMEZONE
TZID:America/Detroit
X-LIC-LOCATION:America/Detroit
BEGIN:STANDARD
DTSTART:20251102T010000
TZOFFSETFROM:-0400
TZOFFSETTO:-0500
TZNAME:EST
END:STANDARD
END:VTIMEZONE
END:VCALENDAR