BEGIN:VCALENDAR
VERSION:2.0
PRODID:-//wp-events-plugin.com//7.2.3.1//EN
TZID:America/Detroit
X-WR-TIMEZONE:America/Detroit
BEGIN:VEVENT
UID:34618@arabamerica.com
DTSTART;TZID=America/Detroit:20250629T200000
DTEND;TZID=America/Detroit:20250629T220000
DTSTAMP:20250617T223852Z
URL:https://www.arabamerica.com/events/the-watermelon-club-stand-up-comedy
 -show-2/
SUMMARY:The Watermelon Club Stand-Up Comedy Show
DESCRIPTION:MIAMI\, FL\n\nThe Water\nJUNE 29 @8PM\nHosted by TAREK TURJMAN\
 nGet tickets\nOMAR KHODR\nLEETAH FAYE\nNADEEM AWAD\nKELLY BLAKE\nASHVIN SI
 NGHAL\nSAGITTAE NIDAE\nM VILLAIN THEATER\nAN EVENING OF COMEDY\, DRAG\, &a
 mp\; FUNDRAISING FOR PALESTINE\nGEELECT\n$26.27\nGET TICKETS AT VILLAIN TH
 EATER.COM/SHOWS
ATTACH;FMTTYPE=image/jpeg:https://www.arabamerica.com/wp-content/uploads/2
 025/06/Screen-Shot-2025-06-17-at-6.39.25-PM.png
LOCATION:Villain Theater\, 5865 Northeast 2nd Avenue\, Miami \, Florida\, 3
 3137\, United States
GEO:25.829607;-80.191859
X-APPLE-STRUCTURED-LOCATION;VALUE=URI;X-ADDRESS=5865 Northeast 2nd Avenue\,
  Miami \, Florida\, 33137\, United States;X-APPLE-RADIUS=100;X-TITLE=Villa
 in Theater:geo:25.829607,-80.191859
END:VEVENT
BEGIN:VTIMEZONE
TZID:America/Detroit
X-LIC-LOCATION:America/Detroit
BEGIN:DAYLIGHT
DTSTART:20250309T030000
TZOFFSETFROM:-0500
TZOFFSETTO:-0400
TZNAME:EDT
END:DAYLIGHT
END:VTIMEZONE
END:VCALENDAR