BEGIN:VCALENDAR
VERSION:2.0
PRODID:-//wp-events-plugin.com//7.2.3.1//EN
TZID:America/Detroit
X-WR-TIMEZONE:America/Detroit
BEGIN:VEVENT
UID:35270@arabamerica.com
DTSTART;TZID=America/Detroit:20251024T223000
DTEND;TZID=America/Detroit:20251024T235500
DTSTAMP:20251020T122509Z
URL:https://www.arabamerica.com/events/the-watermelon-club-stand-up-comedy
 -show-3/
SUMMARY:The Watermelon Club Stand-Up Comedy Show
DESCRIPTION:MIAMI\, FL\n\n\n\nJoin us for an evening of solidarity and fund
 raising for Palestine at the The Watermelon Club Stand-Up Comedy Show. Hos
 ted by Tarek Turjman and featuring comedians Omar Kohdr\, AL D.\, Ryan Ha\
 , and headliner Zaid Fouzi.\n\nBuy our new “Latinos for Palestine” t-s
 hirt at Villain Theater. All proceeds will go directly Gazan families expe
 riencing extreme hunger and lack of shelter.\n\nVillain Theater comedy sho
 ws are perfect for your date night\, reunion\, or solo night on the town! 
 Our comedians come together with their diverse perspectives to put togethe
 r a fun and memorable show. Why waste your time on Netflix? See real life 
 stand-up comedians in the flesh!\n\nDon’t forget to follow Villain Theat
 er's Instagram to stay up to date on upcoming shows! ⁣@villaintheater\n\
 n&#x1f377\; No drink minimums\n\n&#x1f698\; Parking is always free!
ATTACH;FMTTYPE=image/jpeg:https://www.arabamerica.com/wp-content/uploads/2
 025/10/https-cdn.evbuc_.com-images-1131941833-146560584544-1-original.2025
 0922-214541.jpeg
LOCATION:Villain Theater\, 5865 Northeast 2nd Avenue\, Miami\, FL\, 33137\,
  United States
GEO:25.829607;-80.191859
X-APPLE-STRUCTURED-LOCATION;VALUE=URI;X-ADDRESS=5865 Northeast 2nd Avenue\,
  Miami\, FL\, 33137\, United States;X-APPLE-RADIUS=100;X-TITLE=Villain The
 ater:geo:25.829607,-80.191859
END:VEVENT
BEGIN:VTIMEZONE
TZID:America/Detroit
X-LIC-LOCATION:America/Detroit
BEGIN:DAYLIGHT
DTSTART:20250309T030000
TZOFFSETFROM:-0500
TZOFFSETTO:-0400
TZNAME:EDT
END:DAYLIGHT
END:VTIMEZONE
END:VCALENDAR