BEGIN:VCALENDAR
VERSION:2.0
PRODID:-//wp-events-plugin.com//7.2.3.1//EN
TZID:America/Detroit
X-WR-TIMEZONE:America/Detroit
BEGIN:VEVENT
UID:34896@arabamerica.com
DTSTART;TZID=America/Detroit:20250910T200000
DTEND;TZID=America/Detroit:20250910T220000
DTSTAMP:20250804T200432Z
URL:https://www.arabamerica.com/events/thefriendlystrangers_-presents-we-n
 ever-left-by-loulwa-khoury/
SUMMARY:@thefriendlystrangers_ presents... We Never Left by Loulwa Khoury
DESCRIPTION:BROOKLYN\, NY\n\n[embed]https://youtu.be/lJ_iWY5-x58[/embed]
ATTACH;FMTTYPE=image/jpeg:https://www.arabamerica.com/wp-content/uploads/2
 025/08/aaaa.jpeg
LOCATION:Cobble Hill Cinemas\, 265 Court Street\, Brooklyn\, New York\, 112
 31\, United States
GEO:40.684926;-73.994504
X-APPLE-STRUCTURED-LOCATION;VALUE=URI;X-ADDRESS=265 Court Street\, Brooklyn
 \, New York\, 11231\, United States;X-APPLE-RADIUS=100;X-TITLE=Cobble Hill
  Cinemas:geo:40.684926,-73.994504
END:VEVENT
BEGIN:VTIMEZONE
TZID:America/Detroit
X-LIC-LOCATION:America/Detroit
BEGIN:DAYLIGHT
DTSTART:20250309T030000
TZOFFSETFROM:-0500
TZOFFSETTO:-0400
TZNAME:EDT
END:DAYLIGHT
END:VTIMEZONE
END:VCALENDAR