BEGIN:VCALENDAR
VERSION:2.0
PRODID:-//wp-events-plugin.com//7.2.3.1//EN
TZID:America/Detroit
X-WR-TIMEZONE:America/Detroit
BEGIN:VEVENT
UID:35656@arabamerica.com
DTSTART;TZID=America/New_York:20260118T120000
DTEND;TZID=America/New_York:20260118T193000
DTSTAMP:20260106T163322Z
URL:https://www.arabamerica.com/events/thrift4sudan-art-exhibit/
SUMMARY:Thrift4Sudan + Art Exhibit
DESCRIPTION:BROOKLYN\, NY\n\nJoin us for a community-led thrift pop-up and 
 art exhibit bringing together fashion\, art\, and solidarity for Sudan.\n\
 n\n\n\nJoin us for a community-led thrift pop-up and art exhibit bringing 
 together fashion\, art\, and solidarity for Sudan. This event features a c
 urated selection of secondhand clothing alongside original artwork that re
 flects Sudanese culture\, resilience\, and ongoing struggle.\n\nThis event
  will take place in a Muslim community center and includes a designated p
 rayer space. We ask all attendees to be mindful and respectful of this spa
 ce\, maintaining a calm and considerate environment throughout the event.\
 n\nREGISTER HERE\n\n\n
ATTACH;FMTTYPE=image/jpeg:https://www.arabamerica.com/wp-content/uploads/2
 026/01/Screenshot-2026-01-06-at-11.34.28-AM.png
LOCATION:MAS Youth Center\, 1933 Bath Avenue\, Brooklyn \, NY\, 11214\, Uni
 ted States
GEO:40.6022998;-74.0027129
X-APPLE-STRUCTURED-LOCATION;VALUE=URI;X-ADDRESS=1933 Bath Avenue\, Brooklyn
  \, NY\, 11214\, United States;X-APPLE-RADIUS=100;X-TITLE=MAS Youth Center
 :geo:40.6022998,-74.0027129
END:VEVENT
BEGIN:VTIMEZONE
TZID:America/New_York
X-LIC-LOCATION:America/New_York
BEGIN:STANDARD
DTSTART:20251102T010000
TZOFFSETFROM:-0400
TZOFFSETTO:-0500
TZNAME:EST
END:STANDARD
END:VTIMEZONE
END:VCALENDAR