BEGIN:VCALENDAR
VERSION:2.0
PRODID:-//wp-events-plugin.com//7.2.3.1//EN
TZID:America/Detroit
X-WR-TIMEZONE:America/Detroit
BEGIN:VEVENT
UID:35269@arabamerica.com
DTSTART;TZID=America/Detroit:20251116T170000
DTEND;TZID=America/Detroit:20251116T200000
DTSTAMP:20251020T122250Z
URL:https://www.arabamerica.com/events/tjca-fundraising-dinner-invite-only
 /
SUMMARY:TJCA Fundraising Dinner (Invite Only)
DESCRIPTION:BROOK\, IL\n\n\n\nThe Justice Coalition Action invites you to a
  special briefing on our progress and plans for the year ahead. We’ll sh
 are updates on our organizing\, upcoming electoral priorities\, and the gr
 owing pro-Palestine political movement made possible by your support.\n\nO
 ver the past six months\, TJCA has been building cross-state political pow
 er — connecting candidates\, organizers\, and communities committed to a
 dvancing Palestinian human rights and challenging the influence of the Isr
 ael lobby in U.S. politics. Join us to hear highlights from our first phas
 e of work\, a look at key 2026 races\, and how your support will fuel the 
 next stage of this movement for justice and accountability in U.S. politic
 s.
ATTACH;FMTTYPE=image/jpeg:https://www.arabamerica.com/wp-content/uploads/2
 025/10/https-cdn.evbuc_.com-images-1150002573-182319304587-1-original.2025
 1010-142328.jpeg
LOCATION:Le Méridien Chicago - Oakbrook Center\, 2100 Spring Road Oak \, B
 rook\, IL\, 60523\, United States
GEO:41.85017;-87.948989
X-APPLE-STRUCTURED-LOCATION;VALUE=URI;X-ADDRESS=2100 Spring Road Oak \, Bro
 ok\, IL\, 60523\, United States;X-APPLE-RADIUS=100;X-TITLE=Le Méridien Ch
 icago - Oakbrook Center:geo:41.85017,-87.948989
END:VEVENT
BEGIN:VTIMEZONE
TZID:America/Detroit
X-LIC-LOCATION:America/Detroit
BEGIN:STANDARD
DTSTART:20251102T010000
TZOFFSETFROM:-0400
TZOFFSETTO:-0500
TZNAME:EST
END:STANDARD
END:VTIMEZONE
END:VCALENDAR