BEGIN:VCALENDAR
VERSION:2.0
PRODID:-//wp-events-plugin.com//7.2.3.1//EN
TZID:America/Detroit
X-WR-TIMEZONE:America/Detroit
BEGIN:VEVENT
UID:32198@arabamerica.com
DTSTART;TZID=America/Detroit:20240404T001500
DTEND;TZID=America/Detroit:20240404T140000
DTSTAMP:20240206T033047Z
URL:https://www.arabamerica.com/events/tls-mapping-as-decolonial-praxis-fr
 om-algeria-to-palestine-and-hawaii-2/
SUMMARY:TLS: Mapping as Decolonial Praxis: From Algeria to Palestine and Ha
 waii
DESCRIPTION:\nAbout this event\n\n&nbsp\;\nPart of the Society of Fellows' 
 Thursday Lecture Series "Alternatives/Concessions"\n\n\n\n\n\n\n\nThis tal
 k will give a glimpse into Dr. Joudah’s ongoing research and book projec
 t which focuses on how indigenous communities use mapping as an imaginativ
 e decolonial praxis. Starting with the remapping of pre- and post-independ
 ence Algeria as inspiration and a nodal point of inquiry\, the study grows
  to a comparison of contemporary countermapping efforts for Palestine and 
 Hawaii. These various creative processes range from archiving\, the design
  of reconstructing destroyed villages\, to the embodied imagining of prote
 st and land restoration – all of which stand as testaments to indigenous
  duration.\n\n\n\n&nbsp\;\n\n\n\nSpeaker\n\nNour Joudah is an Assistant P
 rofessor in the Department of Asian American Studies at UCLA and a former 
 President’s and Andrew W. Mellon Postdoctoral Fellow in Geography at UC-
 Berkeley (2022-23). Dr. Joudah completed her PhD in Geography at UCLA (202
 2)\, and wrote her dissertation Mapping Decolonized Futures: Indigenous V
 isions for Hawaii and Palestine on the efforts by Palestinian and native 
 Hawaiian communities to imagine and work toward liberated futures while ce
 ntering indigenous duration as a non-linear temporality. Her work examines
  mapping practices and indigenous survival and futures in settler states\,
  highlighting how indigenous countermapping is a both cartographic and dec
 olonial praxis. She also has a MA in Arab Studies from Georgetown Universi
 ty\, and wrote her MA thesis on the role and perception of exile politics 
 within the Palestinian liberation struggle\, in particular among political
 ly active Palestinian youth living in the United States and occupied Pales
 tine.\n\nPlease emaildisability@columbia.eduto request disability accommod
 ations. Advance notice is necessary to arrange for some accessibility need
 s. This event will be recorded. By being present\, you consent to the SOF/
 Heyman using such video for promotional purposes.\n\n\n\n\n\n
ATTACH;FMTTYPE=image/jpeg:https://www.arabamerica.com/wp-content/uploads/2
 024/02/Screen-Shot-2024-02-05-at-10.29.35-PM.png
LOCATION:Heyman Center for the Humanities\, East Campus Residence Hall Colu
 mbia University\, New York\, NY\, 10027\, United States
GEO:40.807177;-73.959002
X-APPLE-STRUCTURED-LOCATION;VALUE=URI;X-ADDRESS=East Campus Residence Hall 
 Columbia University\, New York\, NY\, 10027\, United States;X-APPLE-RADIUS
 =100;X-TITLE=Heyman Center for the Humanities:geo:40.807177,-73.959002
END:VEVENT
BEGIN:VTIMEZONE
TZID:America/Detroit
X-LIC-LOCATION:America/Detroit
BEGIN:DAYLIGHT
DTSTART:20240310T030000
TZOFFSETFROM:-0500
TZOFFSETTO:-0400
TZNAME:EDT
END:DAYLIGHT
END:VTIMEZONE
END:VCALENDAR