BEGIN:VCALENDAR
VERSION:2.0
PRODID:-//wp-events-plugin.com//7.2.3.1//EN
TZID:America/Detroit
X-WR-TIMEZONE:America/Detroit
BEGIN:VEVENT
UID:34321@arabamerica.com
DTSTART;TZID=America/Detroit:20250423T200000
DTEND;TZID=America/Detroit:20250423T220000
DTSTAMP:20250423T184921Z
URL:https://www.arabamerica.com/events/toasted-and-roasted-comedy-show/
SUMMARY:Toasted and Roasted Comedy Show!
DESCRIPTION:LOS ANGELES\, CA\n\nCome join us for a night of laughter at San
 a'a cafe. Get ready to enjoy hilarious stand-up performances by talented c
 omedians. It's the perfect opportunity to unwind\, relax\, and have a good
  time with friends. Don't miss out on this fantastic event!\n\nSince this 
 is the first show\, it will be free! We will be asking for donations at th
 e end of the show to help benefit PureHands.org for Yemen.
ATTACH;FMTTYPE=image/jpeg:https://www.arabamerica.com/wp-content/uploads/2
 025/04/Screenshot-2025-04-23-at-2.56.31 PM.png
LOCATION:Sana'a Cafe\, 6290 Hollywood Blvd\, Los Angeles\, CA\, 90028\, Uni
 ted States
GEO:34.10149;-118.326503
X-APPLE-STRUCTURED-LOCATION;VALUE=URI;X-ADDRESS=6290 Hollywood Blvd\, Los A
 ngeles\, CA\, 90028\, United States;X-APPLE-RADIUS=100;X-TITLE=Sana'a Cafe
 :geo:34.10149,-118.326503
END:VEVENT
BEGIN:VTIMEZONE
TZID:America/Detroit
X-LIC-LOCATION:America/Detroit
BEGIN:DAYLIGHT
DTSTART:20250309T030000
TZOFFSETFROM:-0500
TZOFFSETTO:-0400
TZNAME:EDT
END:DAYLIGHT
END:VTIMEZONE
END:VCALENDAR