BEGIN:VCALENDAR
VERSION:2.0
PRODID:-//wp-events-plugin.com//7.2.3.1//EN
TZID:America/Detroit
X-WR-TIMEZONE:America/Detroit
BEGIN:VEVENT
UID:35480@arabamerica.com
DTSTART;TZID=America/Detroit:20251207T163000
DTEND;TZID=America/Detroit:20251207T210000
DTSTAMP:20251125T225943Z
URL:https://www.arabamerica.com/events/together-we-rise-a-night-for-gaza-s
 udan-harrisburg-2/
SUMMARY:Together We Rise: A Night for Gaza & Sudan - Harrisburg
DESCRIPTION:HARRISBURG\, PA\n\nJoin us for a special event dedicated to sup
 porting the people of Gaza\, Sudan and Syria\n\n\n\n\nJoin us for a specia
 l gathering that brings together scholars and reciters to strengthen our f
 aith\, foster unity\, and renew our commitment to doing good.\n\nAs the cr
 ises in Gaza\, Syria\, and Sudan persist\, we come together to provide rel
 ief and hope to those in need. In times of hardship\, Allah reminds us:\n\
 n"يَرْفَعِ اللَّهُ الَّذِينَ آمَنُوا مِن
 ْكُمْ وَالَّذِينَ أُوتُوا الْعِلْمَ دَر
 َجَاتًۭ"\n"Allah will raise those who have believed among you and t
 hose who were given knowledge\, by degrees." (Quran 58:11)\n\nThe Prophet 
 ﷺ also said:\n\n"إِنَّ اللَّهَ يَرْفَعُ بِهَٰذ
 َا الدِّينِ أَقْوَامًا وَيَضَعُ بِهِ آخ
 َرِينَ"\n"Indeed\, Allah elevates people through this religion and l
 owers others by it." (Sahih Muslim)\n\nLet this evening be a time to rise
 —through faith\, knowledge\, and action—as we stand in solidarity with
  those who need us most.\n\nFeatured Guests:\n\n 	Qasim Mazhar\n 	Mohamed 
 Tarek\n 	Ustadh Abdelrahman Murphy\n\nEvent Highlights:\n\n&#x2764\;&#xfe0
 f\; Opportunities to Give – A direct chance to contribute to relief effo
 rts and make a real impact.\n\n&#x1f91d\; A Community United for Change 
 – Connect with like-minded individuals who are committed to standing for
  justice and making a difference.\n\nTime: 4:30 PM - 9:00 PM\n\nDate: Sund
 ay Dec 7th\, 2025\n\nTickets:\n\n$ 25 per Individual\n\n$ 75 for family of
  5\n\nAll proceeds raised will go directly to supporting humanitarian effo
 rts in Gaza and Sudan.\n\nLocation:\n\nSheraton Hotel — 4650 Lindle Rd H
 arrisburg\, PA 17111\n\nContact Information: For more information\, please
  contact us at:\nPhone: 1-800-614-9560\nEmail: info@hdfund.org\n\nDonate: 
 gaza.hdfund.org\n\nFollow us on social media: @humandevelopmentfund\n\nHum
 an Development Fund (HDF)\nHuman Development Fund is a 501(c)(3) global hu
 manitarian and aid organization - Tax ID: 92-220-4466.\n\nRegister\n\n\n
ATTACH;FMTTYPE=image/jpeg:https://www.arabamerica.com/wp-content/uploads/2
 025/11/Screenshot-2025-11-25-at-5.50.50-PM.png
LOCATION:Sheraton Harrisburg Hershey Hotel\, 4650 Lindle Road\, Harrisburg\
 , PA\, 17111\, United States
GEO:40.243842;-76.803449
X-APPLE-STRUCTURED-LOCATION;VALUE=URI;X-ADDRESS=4650 Lindle Road\, Harrisbu
 rg\, PA\, 17111\, United States;X-APPLE-RADIUS=100;X-TITLE=Sheraton Harris
 burg Hershey Hotel:geo:40.243842,-76.803449
END:VEVENT
BEGIN:VTIMEZONE
TZID:America/Detroit
X-LIC-LOCATION:America/Detroit
BEGIN:STANDARD
DTSTART:20251102T010000
TZOFFSETFROM:-0400
TZOFFSETTO:-0500
TZNAME:EST
END:STANDARD
END:VTIMEZONE
END:VCALENDAR