BEGIN:VCALENDAR
VERSION:2.0
PRODID:-//wp-events-plugin.com//7.2.3.1//EN
TZID:America/Detroit
X-WR-TIMEZONE:America/Detroit
BEGIN:VEVENT
UID:35413@arabamerica.com
DTSTART;TZID=America/Detroit:20251207T163000
DTEND;TZID=America/Detroit:20251207T203000
DTSTAMP:20251117T214746Z
URL:https://www.arabamerica.com/events/together-we-rise-a-night-for-gaza-s
 udan-harrisburg/
SUMMARY:Together We Rise: A Night for Gaza & Sudan -Harrisburg
DESCRIPTION:\n\nOverview\n\n\n\n\n\nJoin us for a special event dedicated t
 o supporting the people of Gaza\, Sudan and Syria\n\n\n\n\nJoin us for a s
 pecial gathering that brings together scholars and reciters to strengthen 
 our faith\, foster unity\, and renew our commitment to doing good.\n\nAs t
 he crises in Gaza\, Syria\, and Sudan persist\, we come together to provid
 e relief and hope to those in need. In times of hardship\, Allah reminds u
 s:\n\n"يَرْفَعِ اللَّهُ الَّذِينَ آمَنُوا 
 مِنْكُمْ وَالَّذِينَ أُوتُوا الْعِلْمَ 
 دَرَجَاتًۭ"\n"Allah will raise those who have believed among you
  and those who were given knowledge\, by degrees." (Quran 58:11)\n\nThe P
 rophet ﷺ also said:\n\n"إِنَّ اللَّهَ يَرْفَعُ بِ
 هَٰذَا الدِّينِ أَقْوَامًا وَيَضَعُ بِه
 ِ آخَرِينَ"\n"Indeed\, Allah elevates people through this religio
 n and lowers others by it." (Sahih Muslim)\n\nLet this evening be a time 
 to rise—through faith\, knowledge\, and action—as we stand in solidari
 ty with those who need us most.\n\nFeatured Guests:\n\n 	Qasim Mazhar\n 	M
 ohamed Tarek\n 	Ustadh Abdelrahman Murphy\n\nEvent Highlights:\n\n&#x2764\
 ;&#xfe0f\; Opportunities to Give – A direct chance to contribute to re
 lief efforts and make a real impact.\n\n&#x1f91d\; A Community United for
  Change – Connect with like-minded individuals who are committed to sta
 nding for justice and making a difference.\n\nTime: 4:30 PM - 9:00 PM\n\n
 Date: Sunday Dec 7th\, 2025\n\nTickets:\n\n$ 25 per Individual\n\n$ 75 fo
 r family of 5\n\nAll proceeds raised will go directly to supporting humani
 tarian efforts in Gaza and Sudan.\n\nLocation:\n\nSheraton Hotel — 4650 
 Lindle Rd Harrisburg\, PA 17111\n\nContact Information: For more informat
 ion\, please contact us at:\nPhone: 1-800-614-9560\nEmail: info@hdfund.org
 \n\nDonate: gaza.hdfund.org\n\nFollow us on social media: @humandevelopme
 ntfund\n\nHuman Development Fund (HDF)\nHuman Development Fund is a 501(c)
 (3) global humanitarian and aid organization - Tax ID: 92-220-4466.\n\n\n\
 n\n\n
LOCATION:Sheraton Harrisburg Hershey Hotel\, 4650 Lindle Road\, Harrisburg\
 , PA\, 17111\, United States
GEO:40.243842;-76.803449
X-APPLE-STRUCTURED-LOCATION;VALUE=URI;X-ADDRESS=4650 Lindle Road\, Harrisbu
 rg\, PA\, 17111\, United States;X-APPLE-RADIUS=100;X-TITLE=Sheraton Harris
 burg Hershey Hotel:geo:40.243842,-76.803449
END:VEVENT
BEGIN:VTIMEZONE
TZID:America/Detroit
X-LIC-LOCATION:America/Detroit
BEGIN:STANDARD
DTSTART:20251102T010000
TZOFFSETFROM:-0400
TZOFFSETTO:-0500
TZNAME:EST
END:STANDARD
END:VTIMEZONE
END:VCALENDAR