BEGIN:VCALENDAR
VERSION:2.0
PRODID:-//wp-events-plugin.com//7.2.3.1//EN
TZID:America/Detroit
X-WR-TIMEZONE:America/Detroit
BEGIN:VEVENT
UID:34595@arabamerica.com
DTSTART;TZID=America/Detroit:20251004T100000
DTEND;TZID=America/Detroit:20251004T210000
DTSTAMP:20250616T210125Z
URL:https://www.arabamerica.com/events/together-we-rise-advancing-global-h
 ealth-and-humanity/
SUMMARY:Together We Rise: Advancing Global Health and Humanity
DESCRIPTION:DETROIT\, MI\n\nJoin us for a powerful day of insight and inspi
 ration with leading voices in medicine\, law\, entrepreneurship\, and more
 .\n\nThis full-day event is designed to inform\, inspire\, and ignite act
 ion. Whether you are a healthcare professional\, a student\, a community l
 eader\, or simply passionate about global impact\, this is your opportunit
 y to learn\, network\, and be part of something meaningful.\n\n&#x1f389\;
  Early Bird Registration Ends July 7!\n\n&nbsp\;\nAgenda\n\n\n10:00 AM -
  4:00 PM\nConvention Daytime Sessions\n\n\n\n\nThe daytime sessions will 
 highlight the intersection of global health\, humanitarian service\, and c
 ommunity-driven action. Through panels featuring medical missions\, field-
 based research\, and interaction\n\n\n\n\n6:00 PM - 9:00 PM\nBenefit Din
 ner\n\n\n\n\nOur formal benefit dinner is an evening of reflection\, unity
 \, and purpose\, featuring keynote addresses and a curated program that bl
 ends heartfelt storytelling with a vision for global healing\n\n
ATTACH;FMTTYPE=image/jpeg:https://www.arabamerica.com/wp-content/uploads/2
 025/06/Screenshot-2025-06-16-140046.png
CATEGORIES:Arab Ameircan Event
LOCATION:Detroit Marriott Renaissance Center\, 400 Renaissance Drive\, Detr
 oit\, Michigan\, 48243\, United States
GEO:42.3293061;-83.04148950000001
X-APPLE-STRUCTURED-LOCATION;VALUE=URI;X-ADDRESS=400 Renaissance Drive\, Det
 roit\, Michigan\, 48243\, United States;X-APPLE-RADIUS=100;X-TITLE=Detroit
  Marriott Renaissance Center:geo:42.3293061,-83.04148950000001
END:VEVENT
BEGIN:VTIMEZONE
TZID:America/Detroit
X-LIC-LOCATION:America/Detroit
BEGIN:DAYLIGHT
DTSTART:20250309T030000
TZOFFSETFROM:-0500
TZOFFSETTO:-0400
TZNAME:EDT
END:DAYLIGHT
END:VTIMEZONE
END:VCALENDAR