BEGIN:VCALENDAR
VERSION:2.0
PRODID:-//wp-events-plugin.com//7.2.3.1//EN
TZID:America/Detroit
X-WR-TIMEZONE:America/Detroit
BEGIN:VEVENT
UID:35892@arabamerica.com
DTSTART:20260305T000000Z
DTEND:20260305T043000Z
DTSTAMP:20260218T025921Z
URL:https://www.arabamerica.com/events/together-we-rise-united-for-gaza-sa
 n-antonio/
SUMMARY:Together We Rise: United for Gaza - San Antonio
DESCRIPTION:Overview\n\n\n\n\n\nJoin us for a special event dedicated to su
 pporting the people of Gaza.\n\n\n\n\n\n\nJoin us for a special gathering 
 that brings together scholars and reciters to strengthen our faith\, foste
 r unity\, and renew our commitment to doing good.\n\nAs the crises in Gaza
  and Sudan persist\, we come together to provide relief and hope to those 
 in need. In times of hardship\, Allah reminds us:\n\n"يَرْفَعِ ا
 للَّهُ الَّذِينَ آمَنُوا مِنْكُمْ وَالَ
 ّذِينَ أُوتُوا الْعِلْمَ دَرَجَاتًۭ"\n"All
 ah will raise those who have believed among you and those who were given k
 nowledge\, by degrees." (Quran 58:11)\n\nThe Prophet ﷺ also said:\n\n"
 إِنَّ اللَّهَ يَرْفَعُ بِهَٰذَا الدِّين
 ِ أَقْوَامًا وَيَضَعُ بِهِ آخَرِينَ"\n"Inde
 ed\, Allah elevates people through this religion and lowers others by it."
  (Sahih Muslim)\n\nLet this evening be a time to rise—through faith\, k
 nowledge\, and action—as we stand in solidarity with those who need us m
 ost.\n\nFeatured Guests:\n\n 	Qari Noman Hussain\n 	Shaykh Ahmed Billoo\n 
 	Shaykh Ammar Alshukry\n 	Shaykh Abdulrahman Khattab\n 	Ustadh Humayun Kha
 n\n\nEvent Highlights:\n\n&#x2764\;&#xfe0f\; Opportunities to Give – A
  direct chance to contribute to relief efforts and make a real impact.\n\n
 &#x1f91d\; A Community United for Change – Connect with like-minded in
 dividuals who are committed to standing for justice and making a differenc
 e.\n\nTime: 6 - 9:30 pm\n\nDate: Wednesday\, Mar 4th\n\nAll proceeds rai
 sed will go directly to supporting humanitarian efforts in Gaza.\n\nLocati
 on:\n\n618 Northwest Loop 410\, suite 207\, san antonio\, TX 78216\n\n\n\n
ATTACH;FMTTYPE=image/jpeg:https://www.arabamerica.com/wp-content/uploads/2
 026/02/image-25-1.webp
LOCATION:618 Northwest Loop 410\, 618 Northwest Loop 410\, suite 207\, San 
 Antonio\, TX\, 78216\, United States
GEO:29.519303;-98.506067
X-APPLE-STRUCTURED-LOCATION;VALUE=URI;X-ADDRESS=618 Northwest Loop 410\, su
 ite 207\, San Antonio\, TX\, 78216\, United States;X-APPLE-RADIUS=100;X-TI
 TLE=618 Northwest Loop 410:geo:29.519303,-98.506067
END:VEVENT
END:VCALENDAR