BEGIN:VCALENDAR
VERSION:2.0
PRODID:-//wp-events-plugin.com//7.2.3.1//EN
TZID:America/Detroit
X-WR-TIMEZONE:America/Detroit
BEGIN:VEVENT
UID:33757@arabamerica.com
DTSTART;TZID=America/Detroit:20241125T190000
DTEND;TZID=America/Detroit:20241125T200000
DTSTAMP:20241106T182603Z
URL:https://www.arabamerica.com/events/touring-morocco-with-chris-mccormac
 k/
SUMMARY:Touring Morocco with Chris McCormack
DESCRIPTION:Englewood\, NJ\n\nWorld traveler Chris McCormack returns to the
  Englewood Public Library to talk about visiting Morocco\, a country set o
 n the northwest coast of Africa.\nMorocco is a fantastic destination\, wit
 h lots of unique regions\, each with its own colorful culture and cuisines
 . The food and the people of Morocco are worth the trip!\nCome learn about
  how you can see this destination without having a high budget.\n\nChris M
 cCormack is a professional traveler who's been empowering people to see th
 e world since 2014. He grew up in Rockaway and loves sharing his experienc
 es with different communities including libraries\, colleges\, and senior 
 centers.\n\nThis event is sponsored by The Friends of the Englewood Librar
 y.
ATTACH;FMTTYPE=image/jpeg:https://www.arabamerica.com/wp-content/uploads/2
 024/11/https___cdn.evbuc_.com_images_845846139_265652654084_1_original.jpe
 g
LOCATION:Englewood Public Library\, 31 Engle St\, Englewood\, NJ\, 07631\, 
 United States
GEO:40.893883;-73.971625
X-APPLE-STRUCTURED-LOCATION;VALUE=URI;X-ADDRESS=31 Engle St\, Englewood\, N
 J\, 07631\, United States;X-APPLE-RADIUS=100;X-TITLE=Englewood Public Libr
 ary:geo:40.893883,-73.971625
END:VEVENT
BEGIN:VTIMEZONE
TZID:America/Detroit
X-LIC-LOCATION:America/Detroit
BEGIN:STANDARD
DTSTART:20241103T010000
TZOFFSETFROM:-0400
TZOFFSETTO:-0500
TZNAME:EST
END:STANDARD
END:VTIMEZONE
END:VCALENDAR