BEGIN:VCALENDAR
VERSION:2.0
PRODID:-//wp-events-plugin.com//7.2.3.1//EN
TZID:America/Detroit
X-WR-TIMEZONE:America/Detroit
BEGIN:VEVENT
UID:35260@arabamerica.com
DTSTART;TZID=America/Detroit:20251003T000000
DTEND;TZID=America/Detroit:20251102T000000
DTSTAMP:20251017T152859Z
URL:https://www.arabamerica.com/events/traces-exhibition/
SUMMARY:Traces ( آثار ) Exhibition
DESCRIPTION:&nbsp\;\n\n\n\n\n\n\n\n\n\n\nOpening October 3\n5–8pm\, at IA
 &amp\;A AT HILLYER\n9 Hillyer Court\, NW\nWashington\, DC 20008\nOn View t
 hrough November 2\n— — —\nTraces ( آثار ) brings together twelv
 e multi-generational artists with roots to West Asia and North Africa who 
 call the Washington\, D.C. area home. The exhibition’s title reflects th
 e Arabic word meaning to trace\, a footprint\, a memory\, or an echo\, and
  the long lineage of artists with roots from the region who have contribut
 ed to the cultural fabric of the D.C. area. Traces ( آثار ) illustra
 tes the multitude of ways the artists utilize abstraction\, collage\, gra
 phic design\, figuration\, photography\, moving image and craft\, to draw 
 from their heritage\, culture\, and complex personal histories and respon
 d to the present condition.\n\nFeatured are: Aiyah Sibay\, Anysa Saleh\, D
 ina AZ. Salem\, Ebtisam Abdulaziz\, Fadia Jawdat\, Hannah Atallah\, Helen 
 Zughaib\, Jackie Milad\, Jillian Abir MacMaster\, Lama Dajani\, Maria Habi
 b\, and Reem Bassous.\nCurated by Laila Abdul-Hadi Jadallah\n\n\n\n\n\n\n\
 n\n&nbsp\;\n\n\n\n\n\n\n\n\n\n\n\n\n\n\n\n\n
ATTACH;FMTTYPE=image/jpeg:https://www.arabamerica.com/wp-content/uploads/2
 025/10/athartraces_v01-a.webp
LOCATION:IA&A at Hillyer\, 9 Hillyer Court \, Washington DC\, District of C
 olumbia\, 20008\, United States
GEO:38.912224;-77.047318
X-APPLE-STRUCTURED-LOCATION;VALUE=URI;X-ADDRESS=9 Hillyer Court \, Washingt
 on DC\, District of Columbia\, 20008\, United States;X-APPLE-RADIUS=100;X-
 TITLE=IA&A at Hillyer:geo:38.912224,-77.047318
END:VEVENT
BEGIN:VTIMEZONE
TZID:America/Detroit
X-LIC-LOCATION:America/Detroit
BEGIN:DAYLIGHT
DTSTART:20250309T030000
TZOFFSETFROM:-0500
TZOFFSETTO:-0400
TZNAME:EDT
END:DAYLIGHT
END:VTIMEZONE
END:VCALENDAR