BEGIN:VCALENDAR
VERSION:2.0
PRODID:-//wp-events-plugin.com//7.2.3.1//EN
TZID:America/Detroit
X-WR-TIMEZONE:America/Detroit
BEGIN:VEVENT
UID:34074@arabamerica.com
DTSTART;TZID=America/Detroit:20250221T163000
DTEND;TZID=America/Detroit:20250221T183000
DTSTAMP:20250218T184950Z
URL:https://www.arabamerica.com/events/travel-to-morocco-los-angeles-recep
 tion/
SUMMARY:Travel to Morocco - Los Angeles Reception
DESCRIPTION:LA\, CA\n\nTravel to Morocco - Los Angeles Reception\n\nIn coll
 aboration with the Africa Tourism Association\, Afritrip Morocco is hos
 ting a special reception in Los Angeles\, bringing together travel profess
 ionals for a night of networking\, discovery\, and authentic Moroccan hosp
 itality.\n\nConnect with industry peers\, gain insights into Morocco’s d
 iverse travel experiences\, and explore the tailored offerings of Afritri
 p Morocco\, a premier destination management company specializing in priva
 te\, upscale\, and luxury travel experiences.\n\nWe will have a special gu
 est: A local DMC partner from Tanzania\, part of the Africa Tourism Associ
 ation for a special presentation.\n\nMoroccan tea and snacks will be serve
 d.\n\nLearn more about Afritrip Morocco: www.afritripmorocco.com\n\nContac
 t us at advisor@afritripmorocco.com for any questions.\n\n&nbsp\;
ATTACH;FMTTYPE=image/jpeg:https://www.arabamerica.com/wp-content/uploads/2
 025/02/euufe.png
CATEGORIES:#arabic,Arab,Arab Ameircan Event,Arab
 American,Community,culture,Discussion,Food
LOCATION:Casablanca Moroccan Kitchens\, 6919 Melrose Avenue\, Los Angeles\,
  CA\, 90038\, United States
GEO:34.083595;-118.342348
X-APPLE-STRUCTURED-LOCATION;VALUE=URI;X-ADDRESS=6919 Melrose Avenue\, Los A
 ngeles\, CA\, 90038\, United States;X-APPLE-RADIUS=100;X-TITLE=Casablanca 
 Moroccan Kitchens:geo:34.083595,-118.342348
END:VEVENT
BEGIN:VTIMEZONE
TZID:America/Detroit
X-LIC-LOCATION:America/Detroit
BEGIN:STANDARD
DTSTART:20241103T010000
TZOFFSETFROM:-0400
TZOFFSETTO:-0500
TZNAME:EST
END:STANDARD
END:VTIMEZONE
END:VCALENDAR