BEGIN:VCALENDAR
VERSION:2.0
PRODID:-//wp-events-plugin.com//7.2.3.1//EN
TZID:America/Detroit
X-WR-TIMEZONE:America/Detroit
BEGIN:VEVENT
UID:34771@arabamerica.com
DTSTART;TZID=America/Detroit:20251207T180000
DTEND;TZID=America/Detroit:20251207T180000
DTSTAMP:20250715T161609Z
URL:https://www.arabamerica.com/events/tribute-to-um-kalthum-layali-zaman-
 academy-orchestra-2/
SUMMARY:Tribute to Um Kalthum Layali Zaman Academy Orchestra
DESCRIPTION:BEVERLY HILLS\, CA\n\n\n\nMaestro Adel Eskander celebrates the 
 life and art of the Egyptian singer and the giant star of the Middle East\
 , the great Um Kalthum!
ATTACH;FMTTYPE=image/jpeg:https://www.arabamerica.com/wp-content/uploads/2
 025/07/jjjj.jpg
LOCATION:Saban Theatre\, 8440 Wilshire Boulevard\, Beverly Hills\, Californ
 ia\, 90211\, United States
GEO:34.064481;-118.374852
X-APPLE-STRUCTURED-LOCATION;VALUE=URI;X-ADDRESS=8440 Wilshire Boulevard\, B
 everly Hills\, California\, 90211\, United States;X-APPLE-RADIUS=100;X-TIT
 LE=Saban Theatre:geo:34.064481,-118.374852
END:VEVENT
BEGIN:VTIMEZONE
TZID:America/Detroit
X-LIC-LOCATION:America/Detroit
BEGIN:STANDARD
DTSTART:20251102T010000
TZOFFSETFROM:-0400
TZOFFSETTO:-0500
TZNAME:EST
END:STANDARD
END:VTIMEZONE
END:VCALENDAR