BEGIN:VCALENDAR
VERSION:2.0
PRODID:-//wp-events-plugin.com//7.2.3.1//EN
TZID:America/Detroit
X-WR-TIMEZONE:America/Detroit
BEGIN:VEVENT
UID:34797@arabamerica.com
DTSTART;TZID=America/Detroit:20250810T140000
DTEND;TZID=America/Detroit:20250810T160000
DTSTAMP:20250729T022940Z
URL:https://www.arabamerica.com/events/tu2025-tunisian-fusion-moria-chappe
 ll-_-2/
SUMMARY:TU2025 - Tunisian Fusion - Moria Chappell _
DESCRIPTION:08/10/2025 Brookfield\, WI\n\nTicket is for a Single Workshop.\
 n\n**Please note this event will be at Brookfield Masonic Temple\n\nTunisi
 an Fusion\n\nTUNISIAN FUSION is designed for the dancer who wants to diffe
 rentiate her dance and explore styles of movement that utilize more comple
 x rhythms and high-energy combinations. TUNISIAN FUSION places a strong em
 phasis on twisting\, unique posturing\, and unexpected floor patterns. Mov
 ing forward\, backward\, and up and down\, you will learn this intricate a
 nd exciting form of ethnic dance and its combinations as they apply to Tri
 bal Fusion belly dance.The focus will be on the muscle conditioning necess
 ary for Tunisian fusion's twists\, locks\, drops\, and shimmies\, as well 
 as the intensive drills of Tunisian combinations for moving as well as sta
 tionary applications. Folkloric and fresh\, sweaty and unique\, TUNISIAN F
 USION culminates in a Tribal Fusion choreography. Dance shoes are recommen
 ded.\n\n------------------------------------------------------------\n\nDi
 sclosures:\n\nNo REFUNDS are given. If you are unable to attend the event
 \, please feel free to sell your spot.\n\nThrough the group purchase of Fi
 tness Classes\, Programs or Workshops offered by Tamarind Studio have agre
 ed to voluntarily participate in an exercise program including but not lim
 ited to strength training\, flexibility development\, and aerobic exercise
 . Please consult with a physician prior to and regarding my participation 
 in the\n\nTamarind Studio Classes\, Programs or Workshops. I represent and
  warrant that I am physically fit and able to participate in the Tamarind 
 Studio Classes. Participant assumes full responsibility for any risks\, in
 juries or damages\, known or unknown\, which might incur as a result of pa
 rticipating in the program.
ATTACH;FMTTYPE=image/jpeg:https://www.arabamerica.com/wp-content/uploads/2
 025/07/Screenshot-2025-07-16-at-6.13.01-PM.png
LOCATION:Brookfield Masonic Center\, 4550 Pilgrim Road\, Brookfield\, WI\, 
 53005\, United States
GEO:43.100187;-88.104619
X-APPLE-STRUCTURED-LOCATION;VALUE=URI;X-ADDRESS=4550 Pilgrim Road\, Brookfi
 eld\, WI\, 53005\, United States;X-APPLE-RADIUS=100;X-TITLE=Brookfield Mas
 onic Center:geo:43.100187,-88.104619
END:VEVENT
BEGIN:VTIMEZONE
TZID:America/Detroit
X-LIC-LOCATION:America/Detroit
BEGIN:DAYLIGHT
DTSTART:20250309T030000
TZOFFSETFROM:-0500
TZOFFSETTO:-0400
TZNAME:EDT
END:DAYLIGHT
END:VTIMEZONE
END:VCALENDAR